BEGIN:VCALENDAR
VERSION:2.0
PRODID:-//Newton Beacon - ECPv6.15.20//NONSGML v1.0//EN
CALSCALE:GREGORIAN
METHOD:PUBLISH
X-ORIGINAL-URL:https://www.newtonbeacon.org
X-WR-CALDESC:Events for Newton Beacon
REFRESH-INTERVAL;VALUE=DURATION:PT1H
X-Robots-Tag:noindex
X-PUBLISHED-TTL:PT1H
BEGIN:VTIMEZONE
TZID:America/New_York
BEGIN:DAYLIGHT
TZOFFSETFROM:-0500
TZOFFSETTO:-0400
TZNAME:EDT
DTSTART:20240310T070000
END:DAYLIGHT
BEGIN:STANDARD
TZOFFSETFROM:-0400
TZOFFSETTO:-0500
TZNAME:EST
DTSTART:20241103T060000
END:STANDARD
BEGIN:DAYLIGHT
TZOFFSETFROM:-0500
TZOFFSETTO:-0400
TZNAME:EDT
DTSTART:20250309T070000
END:DAYLIGHT
BEGIN:STANDARD
TZOFFSETFROM:-0400
TZOFFSETTO:-0500
TZNAME:EST
DTSTART:20251102T060000
END:STANDARD
BEGIN:DAYLIGHT
TZOFFSETFROM:-0500
TZOFFSETTO:-0400
TZNAME:EDT
DTSTART:20260308T070000
END:DAYLIGHT
BEGIN:STANDARD
TZOFFSETFROM:-0400
TZOFFSETTO:-0500
TZNAME:EST
DTSTART:20261101T060000
END:STANDARD
END:VTIMEZONE
BEGIN:VEVENT
DTSTART;TZID=America/New_York:20250531T090000
DTEND;TZID=America/New_York:20250531T120000
DTSTAMP:20260424T083723
CREATED:20250220T195458Z
LAST-MODIFIED:20250402T162915Z
UID:10006644-1748682000-1748692800@www.newtonbeacon.org
SUMMARY:Walk for Independence
DESCRIPTION:13th Annual Walk for Independence is happening Saturday May 31st\, from 9:00am-12:00pm at the Mount Ida Campus of Umass Amherst (100 Carlson Avenue in Newton\, MA)! This is a free event where we invite you to walk to fundraise money for vision loss\, but to also celebrate the entire community coming together to improve the lives of people with vision loss. \n– Registration: 9:00 a.m.\n– Walk kick-off: 10:00 a.m.\n– Post-walk BBQ and activities: 11:00 a.m. – 12:00 p.m. \nAttendees will complete a 1\, 2\, or 3-mile walk around the Mt. Ida campus of UMass Amherst in Newton followed by a celebration for all ages! \n– Free BBQ & Popcorn\n– Cabot’s ice cream\n– Multi-sensory food tastings from local vendors\n– Assistive technology demonstrations\n– And more! \nRegister & donate today at carroll.org/walk
URL:https://www.newtonbeacon.org/event/walk-for-independence-2/
LOCATION:Mount Ida Campus of UMass Amherst\, 100 Carlson Ave\, Newton\, MA\, 02458\, United States
CATEGORIES:Children,Community,Education,Fundraiser
ORGANIZER;CN="The Carroll Center for the Blind":MAILTO:development@carroll.org
END:VEVENT
BEGIN:VEVENT
DTSTART;TZID=America/New_York:20250531T090000
DTEND;TZID=America/New_York:20250531T120000
DTSTAMP:20260424T083723
CREATED:20250213T223505Z
LAST-MODIFIED:20250306T161823Z
UID:10006624-1748682000-1748692800@www.newtonbeacon.org
SUMMARY:Walk for Independence
DESCRIPTION:Mark your calendars for the 13th annual Walk for Independence\, happening May 31\, 2025 from 9am to 12pm! \nThe Walk for Independence supports the Carroll Center for the Blind’s mission of empowering those who are blind or visually impaired to achieve independence and to lead a fulfilling life. \nAttendees will complete a 1\, 2\, or 3-mile walk around the Mt. Ida campus of UMass Amherst in Newton followed by activities for all ages. \nThere will be free BBQ\, popcorn\, Cabot’s ice cream\, multi-sensory food tasting with a variety of local vendors\, explore new assistive technology and applications\, and more! \nRegister today here: carroll.org/walk
URL:https://www.newtonbeacon.org/event/walk-for-independence/
LOCATION:Mount Ida Campus of UMass Amherst\, 100 Carlson Ave\, Newton\, MA\, 02458\, United States
CATEGORIES:Community,Fundraiser
ORGANIZER;CN="The Carroll Center for the Blind":MAILTO:development@carroll.org
END:VEVENT
BEGIN:VEVENT
DTSTART;TZID=America/New_York:20250528T070000
DTEND;TZID=America/New_York:20250528T093000
DTSTAMP:20260424T083723
CREATED:20250529T172252Z
LAST-MODIFIED:20250529T172252Z
UID:10007212-1748415600-1748424600@www.newtonbeacon.org
SUMMARY:51st Annual   Theodore D. Mann Newton Mayor's Community Breakfast
DESCRIPTION:Join your community Wednesday morning\, May 28th\, under a big tent at Shaw Hall on the UMass Mt. Ida campus. Doors open and and breakfast will be available starting at 7:00 a.m. \nThis year’s Keynote Speaker will be Dan Shaughnessy\, renowned sportswriter for the Boston Globe. In addition\, we will be joined by MA District 4 Congressman\, Jake Auchincloss\, who will be sharing remarks. \nRegistration for the Breakfast is required:\nTickets & Tables: bit.ly/NEWTONBREAKFAST25\nSponsorship Opportunities: bit.ly/BREAKFAST_SPONSORS_25\nThis event is also the principal fundraiser for the Foundation for Racial\, Ethnic and Religious Harmony
URL:https://www.newtonbeacon.org/event/51st-annual-theodore-d-mann-newton-mayors-community-breakfast/
LOCATION:Mount Ida Campus of UMass Amherst\, 100 Carlson Ave\, Newton\, MA\, 02458\, United States
CATEGORIES:Community,Music
ORGANIZER;CN="Foundation for Racial%2C Ethnic and Religious Harmony (Harmony Foundation)":MAILTO:harmonyfoundationnewton@gmail.com
END:VEVENT
END:VCALENDAR