BEGIN:VCALENDAR
VERSION:2.0
PRODID:-//Newton Beacon - ECPv6.15.20//NONSGML v1.0//EN
CALSCALE:GREGORIAN
METHOD:PUBLISH
X-ORIGINAL-URL:https://www.newtonbeacon.org
X-WR-CALDESC:Events for Newton Beacon
REFRESH-INTERVAL;VALUE=DURATION:PT1H
X-Robots-Tag:noindex
X-PUBLISHED-TTL:PT1H
BEGIN:VTIMEZONE
TZID:America/New_York
BEGIN:DAYLIGHT
TZOFFSETFROM:-0500
TZOFFSETTO:-0400
TZNAME:EDT
DTSTART:20220313T070000
END:DAYLIGHT
BEGIN:STANDARD
TZOFFSETFROM:-0400
TZOFFSETTO:-0500
TZNAME:EST
DTSTART:20221106T060000
END:STANDARD
BEGIN:DAYLIGHT
TZOFFSETFROM:-0500
TZOFFSETTO:-0400
TZNAME:EDT
DTSTART:20230312T070000
END:DAYLIGHT
BEGIN:STANDARD
TZOFFSETFROM:-0400
TZOFFSETTO:-0500
TZNAME:EST
DTSTART:20231105T060000
END:STANDARD
BEGIN:DAYLIGHT
TZOFFSETFROM:-0500
TZOFFSETTO:-0400
TZNAME:EDT
DTSTART:20240310T070000
END:DAYLIGHT
BEGIN:STANDARD
TZOFFSETFROM:-0400
TZOFFSETTO:-0500
TZNAME:EST
DTSTART:20241103T060000
END:STANDARD
BEGIN:DAYLIGHT
TZOFFSETFROM:-0500
TZOFFSETTO:-0400
TZNAME:EDT
DTSTART:20250309T070000
END:DAYLIGHT
BEGIN:STANDARD
TZOFFSETFROM:-0400
TZOFFSETTO:-0500
TZNAME:EST
DTSTART:20251102T060000
END:STANDARD
BEGIN:DAYLIGHT
TZOFFSETFROM:-0500
TZOFFSETTO:-0400
TZNAME:EDT
DTSTART:20260308T070000
END:DAYLIGHT
BEGIN:STANDARD
TZOFFSETFROM:-0400
TZOFFSETTO:-0500
TZNAME:EST
DTSTART:20261101T060000
END:STANDARD
BEGIN:DAYLIGHT
TZOFFSETFROM:-0500
TZOFFSETTO:-0400
TZNAME:EDT
DTSTART:20270314T070000
END:DAYLIGHT
BEGIN:STANDARD
TZOFFSETFROM:-0400
TZOFFSETTO:-0500
TZNAME:EST
DTSTART:20271107T060000
END:STANDARD
END:VTIMEZONE
BEGIN:VEVENT
DTSTART;TZID=America/New_York:20260321T140000
DTEND;TZID=America/New_York:20260321T170000
DTSTAMP:20260421T082955
CREATED:20260304T165706Z
LAST-MODIFIED:20260304T165706Z
UID:10008650-1774101600-1774112400@www.newtonbeacon.org
SUMMARY:What the World Needs Now Community Gathering for Justice and Peace
DESCRIPTION:What the World Needs Now: Community Gathering for Justice and Peace: an afternoon event on Saturday March 21st from 2 to 5 at the First Unitarian Universalist Society in Newton 1326 Washington Street Newton\, MA 02465. The event will include a sing-along with Newton Folk music at 2:00 PM in the Parish Hall followed by a program at 3:00 PM in the sanctuary featuring keynote speaker Tinya Seeger\, daughter of famed folksinger Pete Seeger\, What the World Needs Now Interfaith Coalition Singers and Newton North Energizers. A freewill donation will support non-profit Democracy Forward. Co-sponsors for the event include the First Unitarian Universalist Society in Newton\, Green Newton and More Than Words.
URL:https://www.newtonbeacon.org/event/what-the-world-needs-now-community-gathering-for-justice-and-peace/
LOCATION:First Unitarian Society in Newton\, 1325 Washington St\, West Newton\, MA\, 02465\, United States
CATEGORIES:Community
END:VEVENT
BEGIN:VEVENT
DTSTART;TZID=America/New_York:20251116T101500
DTEND;TZID=America/New_York:20251116T113000
DTSTAMP:20260421T082955
CREATED:20251105T170424Z
LAST-MODIFIED:20251105T170424Z
UID:10008475-1763288100-1763292600@www.newtonbeacon.org
SUMMARY:Can You See? Music Sunday
DESCRIPTION:Can You See?\nThe First Unitarian Universalist Society in Newton will hold its fall Music Sunday service on November 16 at 10:15am. The Music Sunday service will reflect on the heaviness of these times with music expressing our resilience\, our community\, and our hope. The service will include music by Zanaida Robles\, Saro Lynch-Thomason\, Rachmaninoff\, Margaret Bonds\, Laura Nyro\, Elizabeth Aleander\, and Bob MacWilliams. \nEmail music@fuusn.org for more information.
URL:https://www.newtonbeacon.org/event/can-you-see-music-sunday/
LOCATION:First Unitarian Society in Newton\, 1325 Washington St\, West Newton\, MA\, 02465\, United States
CATEGORIES:Music
ORGANIZER;CN="First Unitarian Universalist Society in Newton":MAILTO:music@fusn.org
END:VEVENT
BEGIN:VEVENT
DTSTART;TZID=America/New_York:20250914T101500
DTEND;TZID=America/New_York:20250914T123000
DTSTAMP:20260421T082955
CREATED:20250903T155741Z
LAST-MODIFIED:20250903T155741Z
UID:10007874-1757844900-1757853000@www.newtonbeacon.org
SUMMARY:HOMECOMING at First Unitarian Universalist Society in Newton!
DESCRIPTION:It’s the start of our new congregation year on Sunday September 7.\nJoin us for our beloved homecoming and ingathering ceremony.\nBring a vial of water to be part of our annual water ceremony. \nSchedule: \n9:45 Gather on the front lawn to dedicate the new Welcome Poles!\nEnjoy the Chimes. \n10:15 Homecoming Service featuring:\nWater Ceremony\nDedication of the Symbols of Year\nCommission the new officers\, committee chairs\, and volunteers\nEnjoy wonderful homecoming music \nImmediately after the service\, there will be refreshments and the first part of our Annual Expo.  Come learn about all the ways you can become involved and be supported in the coming year. \nFirst Unitarian Universalist Society in Newton – 1326 Washington Street\, West Newton\, 02465\n617-527-3203\nwww.fuusn.org \nAbout Us:  First Unitarian Universalist Society in Newton (FUUSN) is a Newton congregation with liberal and progressive theologies.  Founded in 1848\, for over 175 years\, FUUSN has nurtured the spiritualities of its members and served the greater Newton community.  Sunday services are held each week at 10:15 in person and on zoom.
URL:https://www.newtonbeacon.org/event/homecoming-at-first-unitarian-universalist-society-in-newton/2025-09-14/
LOCATION:First Unitarian Society in Newton\, 1325 Washington St\, West Newton\, MA\, 02465\, United States
CATEGORIES:Community
ORGANIZER;CN="First Unitarian Universalist Society in Newton":MAILTO:music@fusn.org
END:VEVENT
BEGIN:VEVENT
DTSTART;TZID=America/New_York:20250907T101500
DTEND;TZID=America/New_York:20250907T123000
DTSTAMP:20260421T082955
CREATED:20250903T155741Z
LAST-MODIFIED:20250903T155741Z
UID:10007873-1757240100-1757248200@www.newtonbeacon.org
SUMMARY:HOMECOMING at First Unitarian Universalist Society in Newton!
DESCRIPTION:It’s the start of our new congregation year on Sunday September 7.\nJoin us for our beloved homecoming and ingathering ceremony.\nBring a vial of water to be part of our annual water ceremony. \nSchedule: \n9:45 Gather on the front lawn to dedicate the new Welcome Poles!\nEnjoy the Chimes. \n10:15 Homecoming Service featuring:\nWater Ceremony\nDedication of the Symbols of Year\nCommission the new officers\, committee chairs\, and volunteers\nEnjoy wonderful homecoming music \nImmediately after the service\, there will be refreshments and the first part of our Annual Expo.  Come learn about all the ways you can become involved and be supported in the coming year. \nFirst Unitarian Universalist Society in Newton – 1326 Washington Street\, West Newton\, 02465\n617-527-3203\nwww.fuusn.org \nAbout Us:  First Unitarian Universalist Society in Newton (FUUSN) is a Newton congregation with liberal and progressive theologies.  Founded in 1848\, for over 175 years\, FUUSN has nurtured the spiritualities of its members and served the greater Newton community.  Sunday services are held each week at 10:15 in person and on zoom.
URL:https://www.newtonbeacon.org/event/homecoming-at-first-unitarian-universalist-society-in-newton/2025-09-07/
LOCATION:First Unitarian Society in Newton\, 1325 Washington St\, West Newton\, MA\, 02465\, United States
CATEGORIES:Community
ORGANIZER;CN="First Unitarian Universalist Society in Newton":MAILTO:music@fusn.org
END:VEVENT
BEGIN:VEVENT
DTSTART;TZID=America/New_York:20250223T140000
DTEND;TZID=America/New_York:20250223T153000
DTSTAMP:20260421T082955
CREATED:20250213T223416Z
LAST-MODIFIED:20250213T223416Z
UID:10006623-1740319200-1740324600@www.newtonbeacon.org
SUMMARY:First Unitarian Universalist Society in Newton Musicians Concert
DESCRIPTION:Come and hear the wonderful musicians of the First Unitarian Universalist Society in concert on Sunday\, February 23\, 2025 at 2pm in the FUUSN Sanctuary. This concert is a fundraiser for the UU Urban Ministry. You’ll hear classical chamber music by pianist Paul Antonucci\, cellist Debra Minard\, and guitarist Bob MacWilliams. Of course the intrepid FUUSN Band will be rocking the house. Enjoy the fantastic array of musical styles and moods: a cappella singing\, classical works\, bluegrass tunes\, jazz and more. And we’ll continue our tradition of Cookies at Intermission! \nThe concert is free and open to the public. Donations will be gratefully accepted for the UU Urban Ministry.
URL:https://www.newtonbeacon.org/event/first-unitarian-universalist-society-in-newton-musicians-concert/2025-02-23/2/
LOCATION:First Unitarian Society in Newton\, 1325 Washington St\, West Newton\, MA\, 02465\, United States
CATEGORIES:Music
ATTACH;FMTTYPE=image/jpeg:https://www.newtonbeacon.org/wp-content/uploads/2025/02/2025-FUUSN-Musicians-concert-flyer-3.jpg
ORGANIZER;CN="First Unitarian Universalist Society in Newton":MAILTO:music@fusn.org
END:VEVENT
BEGIN:VEVENT
DTSTART;TZID=America/New_York:20250223T080000
DTEND;TZID=America/New_York:20250223T170000
DTSTAMP:20260421T082955
CREATED:20250213T223416Z
LAST-MODIFIED:20250213T223416Z
UID:10006622-1740297600-1740330000@www.newtonbeacon.org
SUMMARY:First Unitarian Universalist Society in Newton Musicians Concert
DESCRIPTION:Come and hear the wonderful musicians of the First Unitarian Universalist Society in concert on Sunday\, February 23\, 2025 at 2pm in the FUUSN Sanctuary. This concert is a fundraiser for the UU Urban Ministry. You’ll hear classical chamber music by pianist Paul Antonucci\, cellist Debra Minard\, and guitarist Bob MacWilliams. Of course the intrepid FUUSN Band will be rocking the house. Enjoy the fantastic array of musical styles and moods: a cappella singing\, classical works\, bluegrass tunes\, jazz and more. And we’ll continue our tradition of Cookies at Intermission! \nThe concert is free and open to the public. Donations will be gratefully accepted for the UU Urban Ministry.
URL:https://www.newtonbeacon.org/event/first-unitarian-universalist-society-in-newton-musicians-concert/2025-02-23/1/
LOCATION:First Unitarian Society in Newton\, 1325 Washington St\, West Newton\, MA\, 02465\, United States
CATEGORIES:Music
ATTACH;FMTTYPE=image/jpeg:https://www.newtonbeacon.org/wp-content/uploads/2025/02/2025-FUUSN-Musicians-concert-flyer-3.jpg
ORGANIZER;CN="First Unitarian Universalist Society in Newton":MAILTO:music@fusn.org
END:VEVENT
BEGIN:VEVENT
DTSTART;TZID=America/New_York:20231118T150000
DTEND;TZID=America/New_York:20231118T163000
DTSTAMP:20260421T082955
CREATED:20231110T060510Z
LAST-MODIFIED:20231110T060510Z
UID:10000437-1700319600-1700325000@www.newtonbeacon.org
SUMMARY:Das Jahr (The Year)
DESCRIPTION:With a successful opener to our musical season completed\, Cappella Clausura is excited to get ready for our next concert featuring pianist Lois Shapiro! Das Jahr (The Year) by Fanny Mendelssohn Hensel\, is a romantic solo piano piece that captures the essence of each month in the calendar year. We’ve broken it up with vocal quartets by Mendelssohn Hensel and Clara Schumann. This performance by Cappella Clausura is a testament to the brilliant works that came from women in the Romantic Era and an amazing composition in the larger form by Fanny Mendelssohn Hensel. Join us on November 18th at 8pm at the First Unitarian Society in Newton and November 19th at 3pm at Emmanuel Church of Boston.
URL:https://www.newtonbeacon.org/event/das-jahr-the-year-2/
LOCATION:First Unitarian Society in Newton\, 1325 Washington St\, West Newton\, MA\, 02465\, United States
CATEGORIES:Music
ATTACH;FMTTYPE=image/jpeg:https://www.newtonbeacon.org/wp-content/uploads/2023/11/fanny2-2.jpg
ORGANIZER;CN="Cappella Clausura":MAILTO:executivedirector@clausura.org
END:VEVENT
END:VCALENDAR