BEGIN:VCALENDAR
VERSION:2.0
PRODID:-//Newton Beacon - ECPv6.15.20//NONSGML v1.0//EN
CALSCALE:GREGORIAN
METHOD:PUBLISH
X-WR-CALNAME:Newton Beacon
X-ORIGINAL-URL:https://www.newtonbeacon.org
X-WR-CALDESC:Events for Newton Beacon
REFRESH-INTERVAL;VALUE=DURATION:PT1H
X-Robots-Tag:noindex
X-PUBLISHED-TTL:PT1H
BEGIN:VTIMEZONE
TZID:America/New_York
BEGIN:DAYLIGHT
TZOFFSETFROM:-0500
TZOFFSETTO:-0400
TZNAME:EDT
DTSTART:20230312T070000
END:DAYLIGHT
BEGIN:STANDARD
TZOFFSETFROM:-0400
TZOFFSETTO:-0500
TZNAME:EST
DTSTART:20231105T060000
END:STANDARD
BEGIN:DAYLIGHT
TZOFFSETFROM:-0500
TZOFFSETTO:-0400
TZNAME:EDT
DTSTART:20240310T070000
END:DAYLIGHT
BEGIN:STANDARD
TZOFFSETFROM:-0400
TZOFFSETTO:-0500
TZNAME:EST
DTSTART:20241103T060000
END:STANDARD
BEGIN:DAYLIGHT
TZOFFSETFROM:-0500
TZOFFSETTO:-0400
TZNAME:EDT
DTSTART:20250309T070000
END:DAYLIGHT
BEGIN:STANDARD
TZOFFSETFROM:-0400
TZOFFSETTO:-0500
TZNAME:EST
DTSTART:20251102T060000
END:STANDARD
END:VTIMEZONE
BEGIN:VEVENT
DTSTART;TZID=America/New_York:20240915T090000
DTEND;TZID=America/New_York:20240915T140000
DTSTAMP:20260425T080548
CREATED:20240905T223917Z
LAST-MODIFIED:20240905T223917Z
UID:10001652-1726390800-1726408800@www.newtonbeacon.org
SUMMARY:Transforming Lives Through Art – Charity Exhibition for Boston Children’s Hospital
DESCRIPTION:Youth Arts For Humanity based in Newton\, MA and Studio M Art based in Lexington\, MA are thrilled to announce their first annual charity exhibition\, a fundraising event dedicated to supporting the life-saving work of Boston Children’s Hospital. The exhibition will be held at The Stove Factory Gallery in Charleston\, MA\, and will showcase a variety of artworks\, with all proceeds directed toward funding breakthrough research\, family support\, and essential services not covered by insurance. \nThis unique event brings together talented artists\, including students from Studio M Art and Choonshin Park\, an artist from South Korea\, who have generously donated their works for this cause. The exhibition is proudly sponsored by the Come and Change Foundation. \nEvery dollar raised during the event will have a direct impact on the lives of children facing complex challenges. \nEvent Details\nOpening Reception: 7-9 pm Friday September 13\, 2024\nExhibition Hours: 10 am-6 pm Saturday September 14\, 2024/1-6 pm Sunday September 15\, 2024\nLocation: The Stove Factory Gallery (523 Medford St.\, Charlestown\, MA)\nAdmission: Free
URL:https://www.newtonbeacon.org/event/transforming-lives-through-art-charity-exhibition-for-boston-childrens-hospital-4/
LOCATION:the stove factory gallery\, 523 Medford St\, Charlestown\, MA\, 02129\, United States
CATEGORIES:Fundraiser,Visual Arts
ATTACH;FMTTYPE=image/jpeg:https://www.newtonbeacon.org/wp-content/uploads/2024/08/2024-Art-Exhibition-.jpg
ORGANIZER;CN="Youth Arts For Humanity":MAILTO:youthartsforhumanity@gmail.com
END:VEVENT
BEGIN:VEVENT
DTSTART;TZID=America/New_York:20240915T090000
DTEND;TZID=America/New_York:20240915T140000
DTSTAMP:20260425T080548
CREATED:20240905T223808Z
LAST-MODIFIED:20240905T223808Z
UID:10001645-1726390800-1726408800@www.newtonbeacon.org
SUMMARY:Transforming Lives Through Art – Charity Exhibition for Boston Children’s Hospital
DESCRIPTION:Youth Arts For Humanity based in Newton\, MA and Studio M Art based in Lexington\, MA are thrilled to announce their first annual charity exhibition\, a fundraising event dedicated to supporting the life-saving work of Boston Children’s Hospital. The exhibition will be held at The Stove Factory Gallery in Charleston\, MA\, and will showcase a variety of artworks\, with all proceeds directed toward funding breakthrough research\, family support\, and essential services not covered by insurance. \nThis unique event brings together talented artists\, including students from Studio M Art and Choonshin Park\, an artist from South Korea\, who have generously donated their works for this cause. The exhibition is proudly sponsored by the Come and Change Foundation. \nEvery dollar raised during the event will have a direct impact on the lives of children facing complex challenges. \nEvent Details\nOpening Reception: 7-9 pm Friday September 13\, 2024\nExhibition Hours: 10 am-6 pm Saturday September 14\, 2024/1-6 pm Sunday September 15\, 2024\nLocation: The Stove Factory Gallery (523 Medford St.\, Charlestown\, MA)\nAdmission: Free
URL:https://www.newtonbeacon.org/event/transforming-lives-through-art-charity-exhibition-for-boston-childrens-hospital-3/
LOCATION:the stove factory gallery\, 523 Medford St\, Charlestown\, MA\, 02129\, United States
CATEGORIES:Fundraiser,Visual Arts
ATTACH;FMTTYPE=image/jpeg:https://www.newtonbeacon.org/wp-content/uploads/2024/08/2024-Art-Exhibition-.jpg
ORGANIZER;CN="Youth Arts For Humanity":MAILTO:youthartsforhumanity@gmail.com
END:VEVENT
BEGIN:VEVENT
DTSTART;TZID=America/New_York:20240914T060000
DTEND;TZID=America/New_York:20240914T140000
DTSTAMP:20260425T080548
CREATED:20240829T174448Z
LAST-MODIFIED:20240829T174633Z
UID:10001644-1726293600-1726322400@www.newtonbeacon.org
SUMMARY:Transforming Lives Through Art – Charity Exhibition for Boston Children’s Hospital
DESCRIPTION:Youth Arts For Humanity based in Newton\, MA and Studio M Art based in Lexington\, MA are thrilled to announce their first annual charity exhibition\, a fundraising event dedicated to supporting the life-saving work of Boston Children’s Hospital. The exhibition will be held at The Stove Factory Gallery in Charleston\, MA\, and will showcase a variety of artworks\, with all proceeds directed toward funding breakthrough research\, family support\, and essential services not covered by insurance. \nThis unique event brings together talented artists\, including students from Studio M Art and Choonshin Park\, an artist from South Korea\, who have generously donated their works for this cause. The exhibition is proudly sponsored by the Come and Change Foundation. \nEvery dollar raised during the event will have a direct impact on the lives of children facing complex challenges. \nEvent Details\nOpening Reception: 7-9 pm Friday September 13\, 2024\nExhibition Hours: 10 am-6 pm Saturday September 14\, 2024/1-6 pm Sunday September 15\, 2024\nLocation: The Stove Factory Gallery (523 Medford St.\, Charlestown\, MA)\nAdmission: Free
URL:https://www.newtonbeacon.org/event/transforming-lives-through-art-charity-exhibition-for-boston-childrens-hospital-2/
LOCATION:the stove factory gallery\, 523 Medford St\, Charlestown\, MA\, 02129\, United States
CATEGORIES:Fundraiser,Visual Arts
ATTACH;FMTTYPE=image/jpeg:https://www.newtonbeacon.org/wp-content/uploads/2024/08/2024-Art-Exhibition-.jpg
ORGANIZER;CN="Youth Arts For Humanity":MAILTO:youthartsforhumanity@gmail.com
END:VEVENT
BEGIN:VEVENT
DTSTART;TZID=America/New_York:20240913T130000
DTEND;TZID=America/New_York:20240913T150000
DTSTAMP:20260425T080548
CREATED:20240829T172739Z
LAST-MODIFIED:20240829T172739Z
UID:10001643-1726232400-1726239600@www.newtonbeacon.org
SUMMARY:Transforming Lives Through Art – Charity Exhibition for Boston Children’s Hospital
DESCRIPTION:Youth Arts For Humanity based in Newton\, MA and Studio M Art based in Lexington\, MA are thrilled to announce their first annual charity exhibition\, a fundraising event dedicated to supporting the life-saving work of Boston Children’s Hospital. The exhibition will be held at The Stove Factory Gallery in Charleston\, MA\, and will showcase a variety of artworks\, with all proceeds directed toward funding breakthrough research\, family support\, and essential services not covered by insurance. \nThis unique event brings together talented artists\, including students from Studio M Art and Choonshin Park\, an artist from South Korea\, who have generously donated their works for this cause. The exhibition is proudly sponsored by the Come and Change Foundation. \nEvery dollar raised during the event will have a direct impact on the lives of children facing complex challenges. \nEvent Details\nOpening Reception: 7-9 pm Friday September 13\, 2024\nExhibition Hours: 10 am-6 pm Saturday September 14\, 2024/1-6 pm Sunday September 15\, 2024\nLocation: The Stove Factory Gallery (523 Medford St.\, Charlestown\, MA)\nAdmission: Free
URL:https://www.newtonbeacon.org/event/transforming-lives-through-art-charity-exhibition-for-boston-childrens-hospital/
LOCATION:the stove factory gallery\, 523 Medford St\, Charlestown\, MA\, 02129\, United States
CATEGORIES:Fundraiser,Visual Arts
ATTACH;FMTTYPE=image/jpeg:https://www.newtonbeacon.org/wp-content/uploads/2024/08/2024-Art-Exhibition-.jpg
ORGANIZER;CN="Youth Arts For Humanity":MAILTO:youthartsforhumanity@gmail.com
END:VEVENT
END:VCALENDAR