BEGIN:VCALENDAR
VERSION:2.0
PRODID:-//Newton Beacon - ECPv6.15.20//NONSGML v1.0//EN
CALSCALE:GREGORIAN
METHOD:PUBLISH
X-ORIGINAL-URL:https://www.newtonbeacon.org
X-WR-CALDESC:Events for Newton Beacon
REFRESH-INTERVAL;VALUE=DURATION:PT1H
X-Robots-Tag:noindex
X-PUBLISHED-TTL:PT1H
BEGIN:VTIMEZONE
TZID:America/New_York
BEGIN:DAYLIGHT
TZOFFSETFROM:-0500
TZOFFSETTO:-0400
TZNAME:EDT
DTSTART:20230312T070000
END:DAYLIGHT
BEGIN:STANDARD
TZOFFSETFROM:-0400
TZOFFSETTO:-0500
TZNAME:EST
DTSTART:20231105T060000
END:STANDARD
BEGIN:DAYLIGHT
TZOFFSETFROM:-0500
TZOFFSETTO:-0400
TZNAME:EDT
DTSTART:20240310T070000
END:DAYLIGHT
BEGIN:STANDARD
TZOFFSETFROM:-0400
TZOFFSETTO:-0500
TZNAME:EST
DTSTART:20241103T060000
END:STANDARD
BEGIN:DAYLIGHT
TZOFFSETFROM:-0500
TZOFFSETTO:-0400
TZNAME:EDT
DTSTART:20250309T070000
END:DAYLIGHT
BEGIN:STANDARD
TZOFFSETFROM:-0400
TZOFFSETTO:-0500
TZNAME:EST
DTSTART:20251102T060000
END:STANDARD
END:VTIMEZONE
BEGIN:VEVENT
DTSTART;TZID=America/New_York:20240425T140000
DTEND;TZID=America/New_York:20240530T150000
DTSTAMP:20260423T011048
CREATED:20240329T023903Z
LAST-MODIFIED:20240329T023903Z
UID:10000610-1714053600-1717081200@www.newtonbeacon.org
SUMMARY:Ballroom Lessons Cha Cha Cha and Rumba
DESCRIPTION:Join us for six weeks of exciting Cha Cha Cha and the passionate steps of the Rumba\, as you dance your way to confidence and style. \n6 Weeks Course \nThursdays 6:00- 7:00 p.m. \nApril 25 through May 30th \nLocation 54 Lincoln Street \nThis class is held in partnership with Dance Stream Studio in Newton Highlands.
URL:https://www.newtonbeacon.org/event/ballroom-lessons-cha-cha-cha-and-rumba/
LOCATION:Dance Stream Studio\, 54 Lincoln Street\, Newton\, Massachusetts\, 02461
CATEGORIES:Visual Arts
ATTACH;FMTTYPE=image/jpeg:https://www.newtonbeacon.org/wp-content/uploads/2024/03/ballroom-X2.jpg
ORGANIZER;CN="Newton Parks%2C Recreation and Culture":MAILTO:nscammon@newtonma.gov
END:VEVENT
END:VCALENDAR