BEGIN:VCALENDAR
VERSION:2.0
PRODID:-//Newton Beacon - ECPv6.15.20//NONSGML v1.0//EN
CALSCALE:GREGORIAN
METHOD:PUBLISH
X-WR-CALNAME:Newton Beacon
X-ORIGINAL-URL:https://www.newtonbeacon.org
X-WR-CALDESC:Events for Newton Beacon
REFRESH-INTERVAL;VALUE=DURATION:PT1H
X-Robots-Tag:noindex
X-PUBLISHED-TTL:PT1H
BEGIN:VTIMEZONE
TZID:America/New_York
BEGIN:DAYLIGHT
TZOFFSETFROM:-0500
TZOFFSETTO:-0400
TZNAME:EDT
DTSTART:20250309T070000
END:DAYLIGHT
BEGIN:STANDARD
TZOFFSETFROM:-0400
TZOFFSETTO:-0500
TZNAME:EST
DTSTART:20251102T060000
END:STANDARD
BEGIN:DAYLIGHT
TZOFFSETFROM:-0500
TZOFFSETTO:-0400
TZNAME:EDT
DTSTART:20260308T070000
END:DAYLIGHT
BEGIN:STANDARD
TZOFFSETFROM:-0400
TZOFFSETTO:-0500
TZNAME:EST
DTSTART:20261101T060000
END:STANDARD
BEGIN:DAYLIGHT
TZOFFSETFROM:-0500
TZOFFSETTO:-0400
TZNAME:EDT
DTSTART:20270314T070000
END:DAYLIGHT
BEGIN:STANDARD
TZOFFSETFROM:-0400
TZOFFSETTO:-0500
TZNAME:EST
DTSTART:20271107T060000
END:STANDARD
END:VTIMEZONE
BEGIN:VEVENT
DTSTART;TZID=America/New_York:20260124T093000
DTEND;TZID=America/New_York:20260124T150000
DTSTAMP:20260422T075437
CREATED:20260114T152357Z
LAST-MODIFIED:20260114T152357Z
UID:10008582-1769247000-1769266800@www.newtonbeacon.org
SUMMARY:The Friends Big Book Sale Event
DESCRIPTION:It’s Back! The Beloved Annual Book Sale Returns \nSaturday January 24\, 2026\n9:30AM – 3PM\nDruker Auditorium\, Newton Free Library \nGet ready\, book lovers—one of our most anticipated events of the year is officially back! The book sale is back and better than ever\, featuring a hand-picked selection of only the best books. From newly published titles hot off the press to beautiful\, high-quality reads perfect for gifting\, you’ll find something special on every table. \nWhether you’re hunting for your next great read\, searching for that perfect puzzle for your favorite puzzle master\, or simply love the thrill of discovering literary treasures\, this is one event you won’t want to miss. \nMark your calendar – great stories await! \nTo learn more\, please visit our website: https://www.friendsofthenewtonfreelibrary.org/
URL:https://www.newtonbeacon.org/event/the-friends-big-book-sale-event/
LOCATION:Newton Free Library – Druker Auditorium\, 330 Homer Street\, Newton\, MA\, 02459\, United States
CATEGORIES:Children,Community,Education,Fundraiser
END:VEVENT
END:VCALENDAR