BEGIN:VCALENDAR
VERSION:2.0
PRODID:-//Newton Beacon - ECPv6.15.20//NONSGML v1.0//EN
CALSCALE:GREGORIAN
METHOD:PUBLISH
X-ORIGINAL-URL:https://www.newtonbeacon.org
X-WR-CALDESC:Events for Newton Beacon
REFRESH-INTERVAL;VALUE=DURATION:PT1H
X-Robots-Tag:noindex
X-PUBLISHED-TTL:PT1H
BEGIN:VTIMEZONE
TZID:America/New_York
BEGIN:DAYLIGHT
TZOFFSETFROM:-0500
TZOFFSETTO:-0400
TZNAME:EDT
DTSTART:20240310T070000
END:DAYLIGHT
BEGIN:STANDARD
TZOFFSETFROM:-0400
TZOFFSETTO:-0500
TZNAME:EST
DTSTART:20241103T060000
END:STANDARD
BEGIN:DAYLIGHT
TZOFFSETFROM:-0500
TZOFFSETTO:-0400
TZNAME:EDT
DTSTART:20250309T070000
END:DAYLIGHT
BEGIN:STANDARD
TZOFFSETFROM:-0400
TZOFFSETTO:-0500
TZNAME:EST
DTSTART:20251102T060000
END:STANDARD
BEGIN:DAYLIGHT
TZOFFSETFROM:-0500
TZOFFSETTO:-0400
TZNAME:EDT
DTSTART:20260308T070000
END:DAYLIGHT
BEGIN:STANDARD
TZOFFSETFROM:-0400
TZOFFSETTO:-0500
TZNAME:EST
DTSTART:20261101T060000
END:STANDARD
BEGIN:DAYLIGHT
TZOFFSETFROM:-0500
TZOFFSETTO:-0400
TZNAME:EDT
DTSTART:20270314T070000
END:DAYLIGHT
BEGIN:STANDARD
TZOFFSETFROM:-0400
TZOFFSETTO:-0500
TZNAME:EST
DTSTART:20271107T060000
END:STANDARD
END:VTIMEZONE
BEGIN:VEVENT
DTSTART;TZID=America/New_York:20251214T080000
DTEND;TZID=America/New_York:20260131T170000
DTSTAMP:20260420T144044
CREATED:20251217T164413Z
LAST-MODIFIED:20251217T164413Z
UID:10008542-1765699200-1769878800@www.newtonbeacon.org
SUMMARY:Honor Thy Teacher - From Newton Schools Foundation
DESCRIPTION:Honor Thy Teacher is Back for a Limited Time! \nNewton Schools Foundation’s beloved Honor Thy Teacher campaign is running for a very limited time this holiday season. It’s the perfect way to recognize the incredible educators and staff who make a difference every day—while fully adhering to the Newton Public Schools gift policy. \nNSF is a 501(c)(3) organization\, so all contributions are tax-deductible. Every dollar donated to NSF\, including Honor Thy Teacher\, goes directly to educator-driven grants that support equity initiatives\, professional learning\, and innovative classroom approaches. NSF has invested over $4 million in programs that enhance teaching and learning across all Newton schools. \nWe’re thrilled to offer this campaign during the holiday season for the first time\, and it’s only available for a short window—so don’t miss the chance to honor someone special!
URL:https://www.newtonbeacon.org/event/honor-thy-teacher-from-newton-schools-foundation/
CATEGORIES:Community,Education,Fundraiser
ORGANIZER;CN="Newton Schools Foundation":MAILTO:Info@newtonschoolsfoundation.org
END:VEVENT
END:VCALENDAR