BEGIN:VCALENDAR
VERSION:2.0
PRODID:-//Newton Beacon - ECPv6.15.20//NONSGML v1.0//EN
CALSCALE:GREGORIAN
METHOD:PUBLISH
X-ORIGINAL-URL:https://www.newtonbeacon.org
X-WR-CALDESC:Events for Newton Beacon
REFRESH-INTERVAL;VALUE=DURATION:PT1H
X-Robots-Tag:noindex
X-PUBLISHED-TTL:PT1H
BEGIN:VTIMEZONE
TZID:America/New_York
BEGIN:DAYLIGHT
TZOFFSETFROM:-0500
TZOFFSETTO:-0400
TZNAME:EDT
DTSTART:20230312T070000
END:DAYLIGHT
BEGIN:STANDARD
TZOFFSETFROM:-0400
TZOFFSETTO:-0500
TZNAME:EST
DTSTART:20231105T060000
END:STANDARD
BEGIN:DAYLIGHT
TZOFFSETFROM:-0500
TZOFFSETTO:-0400
TZNAME:EDT
DTSTART:20240310T070000
END:DAYLIGHT
BEGIN:STANDARD
TZOFFSETFROM:-0400
TZOFFSETTO:-0500
TZNAME:EST
DTSTART:20241103T060000
END:STANDARD
BEGIN:DAYLIGHT
TZOFFSETFROM:-0500
TZOFFSETTO:-0400
TZNAME:EDT
DTSTART:20250309T070000
END:DAYLIGHT
BEGIN:STANDARD
TZOFFSETFROM:-0400
TZOFFSETTO:-0500
TZNAME:EST
DTSTART:20251102T060000
END:STANDARD
END:VTIMEZONE
BEGIN:VEVENT
DTSTART;TZID=America/New_York:20240620T153000
DTEND;TZID=America/New_York:20240620T173000
DTSTAMP:20260419T130537
CREATED:20240524T033041Z
LAST-MODIFIED:20240524T033041Z
UID:10001109-1718897400-1718904600@www.newtonbeacon.org
SUMMARY:The Black Feathers in Concert
DESCRIPTION:A return to Newton! The Black Feathers\, made up of Ray Hughes and Sian Chandler first became aware of the magic between them while collaborating on several musical projects\, becoming The Black Feathers and life partners in 2012. Americana\, Folk\, and Acoustic Indie Rock sensibilities coexist comfortably in their musical world\, with Hughes’ guitar work buoying the kind of harmonies often only heard in family bands. Their music quickly draws the interest of listeners\, but it is the stage chemistry that will keep them riveted.\nHaving already built up a loyal following in the UK\, The Black Feathers have been spreading their wings across the US. They have performed at Philadelphia Folk Festival and Americana Fest\, and have also been awarded official showcases at the North East Regional and Far-West Folk Alliance conferences.\n“Once in a blue moon\, the whole soars far above the sum of its parts. That’s what happens when The Black Feathers perform live” – Black Mountain News\, North Carolina\nJoin us – you won’t be disappointed!
URL:https://www.newtonbeacon.org/event/the-black-feathers-in-concert/
LOCATION:Allen Center for the Arts\, 35 Webster Street\, West Newton\, MA\, United States
CATEGORIES:Community,Music
ATTACH;FMTTYPE=image/png:https://www.newtonbeacon.org/wp-content/uploads/2024/05/Black-Feathers-1.png
ORGANIZER;CN="Cherry Street Music":MAILTO:operations@newtonculture.org
END:VEVENT
BEGIN:VEVENT
DTSTART;TZID=America/New_York:20240620T153000
DTEND;TZID=America/New_York:20240620T173000
DTSTAMP:20260419T130537
CREATED:20240524T033230Z
LAST-MODIFIED:20240524T033230Z
UID:10001105-1718897400-1718904600@www.newtonbeacon.org
SUMMARY:The Black Feathers in Concert
DESCRIPTION:The Black Feathers\, a British duo described by Fatea Magazine as “a duo of undeniable talent\,” will play in concert on Thursday\, June 20\, at The Allen Center in West Newton (MA). The British couple Sian Chandler and Ray Hughes intertwine effortlessly to create a genre-defying sound combining elements of folk\, roots\, Americana\, and southern rock. Tickets and information can be found at newtonculture.org.\nChandler and Hughes first became aware of the magic between them while collaborating on several musical projects\, becoming The Black Feathers and life partners in 2012. Americana\, Folk\, and Acoustic Indie Rock sensibilities coexist comfortably in their musical world\, with Hughes’ guitar work buoying the kind of harmonies often only heard in family bands. Their music quickly draws the interest of listeners\, but it is the stage chemistry that will keep them riveted.\nThe Black Feathers’ debut EP Strangers We Meet was named one of “the best folk albums of 2014″ in The Telegraph and as the Sunday Mercury’s Number 1 Folk and Roots album of 2014. “Stunning harmonies that were so good it reminded me of seeing Gillian Welch and David Rawlings\,” wrote No Depression magazine\, and R2 Magazine proclaimed “their blend of English folk influences and Americana is a tasty concoction indeed.”\nHaving already built up a loyal following in the UK\, The Black Feathers have been spreading their wings across the US. They have performed at the Philadelphia Folk Festival and AmericanaFest and have also been awarded official showcases at the North East Regional and Far-West Folk Alliance conferences.
URL:https://www.newtonbeacon.org/event/the-black-feathers-in-concert-2/
LOCATION:Allen Center for the Arts\, 35 Webster Street\, West Newton\, MA\, United States
CATEGORIES:Community,Music
ATTACH;FMTTYPE=image/png:https://www.newtonbeacon.org/wp-content/uploads/2024/05/Black-Feathers.png
ORGANIZER;CN="Newton Cultural Alliance":MAILTO:contact@newtonculture.org
END:VEVENT
END:VCALENDAR