BEGIN:VCALENDAR
VERSION:2.0
PRODID:-//Newton Beacon - ECPv6.15.20//NONSGML v1.0//EN
CALSCALE:GREGORIAN
METHOD:PUBLISH
X-WR-CALNAME:Newton Beacon
X-ORIGINAL-URL:https://www.newtonbeacon.org
X-WR-CALDESC:Events for Newton Beacon
REFRESH-INTERVAL;VALUE=DURATION:PT1H
X-Robots-Tag:noindex
X-PUBLISHED-TTL:PT1H
BEGIN:VTIMEZONE
TZID:America/New_York
BEGIN:DAYLIGHT
TZOFFSETFROM:-0500
TZOFFSETTO:-0400
TZNAME:EDT
DTSTART:20220313T070000
END:DAYLIGHT
BEGIN:STANDARD
TZOFFSETFROM:-0400
TZOFFSETTO:-0500
TZNAME:EST
DTSTART:20221106T060000
END:STANDARD
BEGIN:DAYLIGHT
TZOFFSETFROM:-0500
TZOFFSETTO:-0400
TZNAME:EDT
DTSTART:20230312T070000
END:DAYLIGHT
BEGIN:STANDARD
TZOFFSETFROM:-0400
TZOFFSETTO:-0500
TZNAME:EST
DTSTART:20231105T060000
END:STANDARD
BEGIN:DAYLIGHT
TZOFFSETFROM:-0500
TZOFFSETTO:-0400
TZNAME:EDT
DTSTART:20240310T070000
END:DAYLIGHT
BEGIN:STANDARD
TZOFFSETFROM:-0400
TZOFFSETTO:-0500
TZNAME:EST
DTSTART:20241103T060000
END:STANDARD
BEGIN:DAYLIGHT
TZOFFSETFROM:-0500
TZOFFSETTO:-0400
TZNAME:EDT
DTSTART:20250309T070000
END:DAYLIGHT
BEGIN:STANDARD
TZOFFSETFROM:-0400
TZOFFSETTO:-0500
TZNAME:EST
DTSTART:20251102T060000
END:STANDARD
END:VTIMEZONE
BEGIN:VEVENT
DTSTART;TZID=America/New_York:20241029T173000
DTEND;TZID=America/New_York:20241029T200000
DTSTAMP:20260419T052816
CREATED:20241024T170142Z
LAST-MODIFIED:20241024T170142Z
UID:10001813-1730223000-1730232000@www.newtonbeacon.org
SUMMARY:Behind the Screen: War Game
DESCRIPTION:Join us at the West Newton Cinema on October 29th for a screening of War Game\, followed by an engaging panel discussion. \nWar Game immerses audiences in a high-stakes future-set simulation\, exploring the threat posed by political instability and disinformation in the aftermath of a contested 2024 presidential election. The film follows a bipartisan group of U.S. defense\, intelligence\, and political figures\, spanning five presidential administrations\, as they participate in a real-time role-playing exercise to avert a political coup backed by rogue military forces. In just six hours\, the group must navigate the complexities of preserving American democracy. A gripping wake-up call\, War Game underscores the critical importance of bipartisan efforts to safeguard democratic institutions in the face of growing internal threats. \nTickets can be purchased here: https://www.westnewtoncinema.com/behind-the-screen \nPanelists: \nKent Greenfield\nProfessor of Law\, Boston College Law School \nKent Greenfield is an internationally recognized scholar of constitutional law and corporate governance\, serving as the Dean’s Distinguished Scholar at Boston College Law School. A prolific author\, Greenfield has written three books\, including Corporations are People Too (And They Should Act Like It)\, and has contributed essays to prominent outlets like the New York Times\, The Atlantic\, and SCOTUSBlog. He is also an active public commentator\, appearing on CNN\, NPR\, MSNBC\, and more\, discussing issues of civil rights and corporate accountability. Greenfield has participated in landmark litigation\, including challenges to the Pentagon’s anti-gay policies and human rights cases involving Unocal and Hershey. A graduate of Brown University and the University of Chicago Law School\, Greenfield clerked for Justice David Souter of the U.S. Supreme Court and has lectured at institutions around the world. His expertise will provide critical insight into the legal and constitutional stakes explored in War Game. \nMeredith McLain\nAssistant Professor of Political Science\, Tufts University\nMeredith McLain is an expert in American politics with a focus on the separation of powers\, presidential authority\, and unilateral policymaking. With a Ph.D. from Vanderbilt University\, her research examines how U.S. presidents strategically use unilateral actions to control the bureaucracy while avoiding sanctions from Congress\, the courts\, and public opinion. She teaches courses on the American presidency\, executive politics\, and policymaking. McLain’s insight into the inner workings of American governance will provide a vital perspective on the issues raised in War Game. \nModerator:\nNeil Giordano\nFilm Teacher\, Newton North High School\nNeil Giordano is a film enthusiast\, occasional critic\, and documentary devotee. As a teacher at Newton North High School\, he brings his deep appreciation for cinema and his love for discussing films with students and audiences alike. His passion for documentary filmmaking and critical analysis will guide the conversation after the screening\, helping to explore the film’s themes and its implications for the future of American democracy.
URL:https://www.newtonbeacon.org/event/behind-the-screen-war-game/
LOCATION:West Newton Cinema\, 1296 Washington Street\, West Newton\, MA\, 02465\, United States
CATEGORIES:Community,Politics & Policy
ATTACH;FMTTYPE=image/png:https://www.newtonbeacon.org/wp-content/uploads/2024/10/Screen-Shot-2024-10-22-at-12.53.00-PM.png
ORGANIZER;CN="West Newton Cinema Foundation":MAILTO:kbrown@mit.edu
END:VEVENT
BEGIN:VEVENT
DTSTART;TZID=America/New_York:20241023T183000
DTEND;TZID=America/New_York:20241023T201500
DTSTAMP:20260419T052816
CREATED:20241024T171628Z
LAST-MODIFIED:20241024T171628Z
UID:10001806-1729708200-1729714500@www.newtonbeacon.org
SUMMARY:The Purge: Election Year- Halloween Political Horror @ West Newton Cinema
DESCRIPTION:Join us at the West Newton Cinema for a special screening of “The Purge: Election Year” as part of our Political Horror screening series this October! \nAbout the film: \nTwo years after choosing not to kill the man who killed his son\, former police sergeant Barnes has become head of security for Senator Charlene Roan\, the front runner in the next Presidential election due to her vow to eliminate the Purge. \nTickets can be purchased here: https://www.westnewtoncinema.com/movie/the-purge-election-year
URL:https://www.newtonbeacon.org/event/the-purge-election-year-halloween-political-horror-west-newton-cinema/
LOCATION:West Newton Cinema\, 1296 Washington Street\, West Newton\, MA\, 02465\, United States
CATEGORIES:Politics & Policy
ATTACH;FMTTYPE=image/png:https://www.newtonbeacon.org/wp-content/uploads/2024/10/Screen-Shot-2024-10-22-at-10.41.06-AM.png
ORGANIZER;CN="West Newton Cinema Foundation":MAILTO:kbrown@mit.edu
END:VEVENT
BEGIN:VEVENT
DTSTART;TZID=America/New_York:20241010T143000
DTEND;TZID=America/New_York:20241010T153000
DTSTAMP:20260419T052816
CREATED:20241010T214843Z
LAST-MODIFIED:20241010T214843Z
UID:10001761-1728570600-1728574200@www.newtonbeacon.org
SUMMARY:Create the Vote Forum
DESCRIPTION:On Thursday\, October 10th at 6:30 PM\, MASSCreative’s Create the Vote team is partnering with the New Art Center in Newton and Newton Cultural Alliance for an arts-focused forum with candidates running for the 11th & 12th Middlesex State House Districts. \nAs a constituent\, we are inviting you to join us for an in-person dialogue with these candidates about their arts and culture policy platforms. \nThis forum will give you the chance to hear directly from the candidates\, learn how they view the role of arts\, culture\, and creativity in building more inclusive and connected communities\, and understand how they plan to support the arts if elected. MASSCreative is leading this effort to ensure that the creative sector’s voice is heard in this election. By attending\, you’re helping to keep arts and culture at the heart of state-level policy conversations.
URL:https://www.newtonbeacon.org/event/create-the-vote-forum/
LOCATION:35 webster street\, 35 Webster St\, Newton\, MA\, 02465\, United States
CATEGORIES:Politics & Policy,Visual Arts
ATTACH;FMTTYPE=image/png:https://www.newtonbeacon.org/wp-content/uploads/2024/10/Middlesex-Forum.png
END:VEVENT
BEGIN:VEVENT
DTSTART;TZID=America/New_York:20241007T150000
DTEND;TZID=America/New_York:20241007T170000
DTSTAMP:20260419T052816
CREATED:20240927T023558Z
LAST-MODIFIED:20240927T023558Z
UID:10001740-1728313200-1728320400@www.newtonbeacon.org
SUMMARY:Learn About Ballot Question #2
DESCRIPTION:On Monday\, October 7\, 2024\, the League of Women Voters (LWV) of Newton\, together with its cosponsors LWV MA\, LWV Boston\, LWV Brookline\, LWV Needham\, LWV Waltham\, LWV Wellesley\, and LWV Weston\, will be hosting a Topic Meeting to discuss Question 2 on November’s ballot: Should Massachusetts eliminate the MCAS test as a high school graduation requirement? \nThis event will be held at the Druker Auditorium\, Newton Free Library\, 330 Homer Street\, Newton Centre\, 7:00pm. All are welcome. \nPanelists include representatives from the Massachusetts Teachers Association (for a “Yes” vote) and the Massachusetts Business Alliance for Education (for a “No” vote)\, Farah Assiraj (Chief of Teaching and Learning for the Council of the Great City Schools)\, and Dr. Gina Flanagan (Assistant Superintendent for Teaching and Learning at Newton Public Schools). \nFor more information\, visit the LWVN Website.
URL:https://www.newtonbeacon.org/event/learn-about-ballot-question-2/
LOCATION:Newton Free Library\, 330 Homer Street\, Newton Centre MA\, MA\, 02459\, United States
CATEGORIES:Community,Education,Politics & Policy
ATTACH;FMTTYPE=image/png:https://www.newtonbeacon.org/wp-content/uploads/2024/09/Oct-7-2024-Ballot-Question-2-Topic-Meeting-Image.png
END:VEVENT
BEGIN:VEVENT
DTSTART;TZID=America/New_York:20240929T140000
DTEND;TZID=America/New_York:20240929T170000
DTSTAMP:20260419T052816
CREATED:20240919T194337Z
LAST-MODIFIED:20240919T194337Z
UID:10001739-1727618400-1727629200@www.newtonbeacon.org
SUMMARY:Christian Nationalism Three-Part Series
DESCRIPTION:Join Second Church in Newton for a Contemporary Issues series on the escalating dangers of Christian Nationalism. The series begins Sunday evening\, September 29th with a documentary film\, followed by a three-week book study (October 10\, 17\, 24)\, and a four-week sermon series on politics and religion (October 6\, 13\, 20\, 27). \n1. Watch Rob Reiner’s new documentary\, God & Country\, Sunday night\, September 29th\, at 6:30 p.m. Free pizza at 6:00 p.m. Large screen. Free popcorn. Diverse local clergy will respond to film\, along with time for Q&A\, small group discussion\, and practical steps to protect religious freedom and democracy. \n2. Read Jim Wallis’ new book\, The False White Gospel: Rejecting Christian Nationalism\, Reclaiming True Faith\, and Refounding Democracy (Jim Wallis\, St Martin’s Essentials\, 2024). Three Thursday evenings: October 10\, 17\, 24 at 6:30 p.m. Two chapters a week. Guest clergy leaders. Get your book ASAP (Hardcover\, Audio book\, Kindle). \n3. Listen to Rev. Corey’s four-week sermon series on politics and religion\, based on the prophet Micah’s call to do justice\, love kindness\, and walk humbly with God. Four Sunday Mornings at 10:00 a.m. October 6\, 13\, 20\, 27.\nOctober 06: God’s Dream of Shalom\nOctober 13: The Call for Justice\nOctober 20: The Practice of Kindness\nOctober 27: The Virtue of Humility \nAll are welcome. All events are 100% free and are held at Second Church of Newton\, 60 Highland Street\, West Newton\, MA 02465. Free Parking. See Second Church of Newton’s Facebook page for more details and timely updates: https://www.facebook.com/2ndchurchnewton
URL:https://www.newtonbeacon.org/event/christian-nationalism-three-part-series/
LOCATION:Second Church in Newton\, 60 Highland Street\, WEST NEWTON\, MA\, 02465\, United States
CATEGORIES:Community,Education,Politics & Policy
ATTACH;FMTTYPE=image/jpeg:https://www.newtonbeacon.org/wp-content/uploads/2024/09/Trio-Thumbnail-RevB-Full-Series.jpg
END:VEVENT
BEGIN:VEVENT
DTSTART;TZID=America/New_York:20240912T170000
DTEND;TZID=America/New_York:20240912T200000
DTSTAMP:20260419T052816
CREATED:20240909T183739Z
LAST-MODIFIED:20240909T183739Z
UID:10001661-1726160400-1726171200@www.newtonbeacon.org
SUMMARY:“The Old Oak”— Screening and Panel on Immigration in Boston and Beyond
DESCRIPTION:RENOWNED DIRECTOR’S FINAL FILM TACKLES ONE OF THE MOST FRAUGHT TOPICS OF TODAY \nJoe Kennedy III\, Marcela García\, Wilfix Cherazard\, and Ty Burr discuss Ken Loach’s “The Old Oak” and the immigrant crisis. \nThe movie screening will be September 12\, 6 p.m.\, at the West Newton Cinema. The event will be a joint fundraiser for English for New Bostonians and the West Newton Cinema Foundation. \nOne of the best films of 2023\, “The Old Oak” is a British drama about a poor mining town in the north of England\, the title pub at which the locals gather\, and the pub owner who befriends one of the town’s Syrian refugees and\, in being welcomed into her community\, is threatened with being ostracized from his own. It’s a humane masterpiece from writer-director Ken Loach\, who\, at 88\, has announced that after more than three dozen movies\, “The Old Oak” will be his last. \nThe film addresses one of the thorniest of modern issues\, the international refugee crisis and its effects on local communities\, and it does so in a way that is relevant both universally and to lived experiences in the Commonwealth of Massachusetts. \nFollowing the screening on the 12th\, a distinguished panel will discuss the film and the issues faced by immigrants and local communities alike. Moderated by former Boston Globe film critic Ty Burr\, the panel will include former Congressman Joe Kennedy III\, Boston Globe reporter Marcela García\, and others! \nTickets can be purchased here: https://www.eventbrite.com/e/the-old-oak-screening-and-panel-on-immigration-in-boston-and-beyond-tickets-998827027527?aff=oddtdtcreator
URL:https://www.newtonbeacon.org/event/the-old-oak-screening-and-panel-on-immigration-in-boston-and-beyond/
LOCATION:West Newton Cinema\, 1296 Washington Street\, West Newton\, MA\, 02465\, United States
CATEGORIES:Community,Fundraiser,Politics & Policy
ATTACH;FMTTYPE=image/jpeg:https://www.newtonbeacon.org/wp-content/uploads/2024/09/Old-Oak.jpeg
ORGANIZER;CN="West Newton Cinema Foundation":MAILTO:kbrown@mit.edu
END:VEVENT
BEGIN:VEVENT
DTSTART;TZID=America/New_York:20240620T150000
DTEND;TZID=America/New_York:20240620T163000
DTSTAMP:20260419T052816
CREATED:20240614T043326Z
LAST-MODIFIED:20240614T043326Z
UID:10001126-1718895600-1718901000@www.newtonbeacon.org
SUMMARY:Public Forum: State Rep Candidates Speak on Climate
DESCRIPTION:State Rep Candidate Forum on Climate and Environment\nThursday June 20th at 7:00 pm\, City Hall War Memorial; a free event. \nMeet the candidates running for the seats of outgoing state representatives Kay Kahn and Ruth Balser; hear their climate and environment priorities. Thursday\, June 20 at 7:00 p.m. in the City Hall War Memorial\, 1000 Commonwealth Avenue. \nMany key policy decisions on climate and the environment will be made on Beacon Hill in coming years. It is very important to have us represented by strong\, well informed voices. This forum is a public opportunity to hear how each candidate thinks about and will act on climate if they are elected. \nMark your calendar: the State Primary Election is Tuesday\, Sept. 3\, the day after Labor Day. \nSponsoring this forum are: 350 MASS Newton\, Green Newton\, and Mothers Out Front Newton.
URL:https://www.newtonbeacon.org/event/public-forum-state-rep-candidates-speak-on-climate/
LOCATION:Newton City Hall War Memorial\, 1000 Commonwealth Ave.\, Newton Centre\, MA\, 02459\, United States
CATEGORIES:Politics & Policy
ATTACH;FMTTYPE=image/jpeg:https://www.newtonbeacon.org/wp-content/uploads/2024/06/1024px-Massachusetts_State_House_-_Boston_MA_-_DSC04664-e1723665812509.jpg
ORGANIZER;CN="Mass 350 Newton":MAILTO:info@greennewton.org
END:VEVENT
BEGIN:VEVENT
DTSTART;TZID=America/New_York:20240530T150000
DTEND;TZID=America/New_York:20240530T160000
DTSTAMP:20260419T052816
CREATED:20240524T033105Z
LAST-MODIFIED:20240524T033105Z
UID:10001107-1717081200-1717084800@www.newtonbeacon.org
SUMMARY:Can new development help school budgets in cities like Newton?
DESCRIPTION:Join us in person or on Zoom. Following the contentious January 2024 teacher strike in Newton\, renewed attention has been paid to increasing the city budget without increasing tax rates. What role can local development\, including increasing the housing supply\, play in increasing the tax base and school funding? This talk with a Q&A will explore both the practical implications and research on the potential for new development\, particularly an expanded housing supply\, to bolster the tax base and\, consequently\, school funding. Presenters: Elise Rapoza\, author: “New Housing Production in Massachusetts: Fiscal Dynamics and Community Implications”. Luc Shuster\, Executive Director of Boston Indicators.
URL:https://www.newtonbeacon.org/event/can-new-development-help-school-budgets-in-cities-like-newton/
LOCATION:Congregation Dorshei Tzedek / Second Church\, 60 Highland St.\, West Newton\, MA\, 02461\, United States
CATEGORIES:Politics & Policy
ATTACH;FMTTYPE=image/jpeg:https://www.newtonbeacon.org/wp-content/uploads/2024/05/Newton-for-Everyone-4x3-ratio-e1719877006723.jpg
ORGANIZER;CN="Newton for Everyone":MAILTO:newtonforeveryone@gmail.com
END:VEVENT
BEGIN:VEVENT
DTSTART;TZID=America/New_York:20240530T143000
DTEND;TZID=America/New_York:20240530T163000
DTSTAMP:20260419T052816
CREATED:20240517T023832Z
LAST-MODIFIED:20240517T023832Z
UID:10001103-1717079400-1717086600@www.newtonbeacon.org
SUMMARY:BERDO Education Forum
DESCRIPTION:A coalition of Newton climate organizations (Green Newton\, 350Newton\, Mothers Out Front Newton\, and the FUUSN Climate Action Task Force) are sponsoring a public education forum on BERDO. We would appreciate it if you could attend\, and spread the word about the event to your networks. Contact me if you have questions. Light refreshments will be provided by Green Newton. \nIn Newton\, about 23% of our greenhouse gas (GHG) emissions come from about 293 large commercial buildings. In order to meet Newton’s Climate Plan goal of reducing GHG emissions to zero by 2050\, the emissions from these buildings must be addressed. A draft Building Emission Reduction and Disclosure Ordinance (BERDO) will be presented to Newton’s Zoning and Planning Committee on Tuesday\, May 28th. The ordinance pertains to existing non-residential buildings that are larger than 20\,000 square feet in size\, including houses of worship. The ordinance sets a timeline for building owners to begin measuring the emissions from the buildings\, and for reducing emissions over time in a stepwise fashion. Come learn about this ordinance\, why it is important and what you can do to support it in the upcoming public hearing.
URL:https://www.newtonbeacon.org/event/berdo-education-forum/
LOCATION:First Unitarian Universalist Society in Newton\, 1326 Washington Street\, West Newton\, MA\, 02465\, United States
CATEGORIES:Community,Politics & Policy
END:VEVENT
BEGIN:VEVENT
DTSTART;TZID=America/New_York:20240521T133000
DTEND;TZID=America/New_York:20240521T143000
DTSTAMP:20260419T052816
CREATED:20240517T024205Z
LAST-MODIFIED:20240517T024205Z
UID:10000733-1716298200-1716301800@www.newtonbeacon.org
SUMMARY:Join us: Rally to Urge Statehouse Action on Climate Bills
DESCRIPTION:With only 60 days left in the Massachusetts statehouse session\, Newton will host one of seven rallies being held across the state on May 21st\, calling on legislators to do more for climate justice this legislative session. The rallies are organized by Mass Power Forward\, a coalition of over 200 Massachusetts organizations and leaders. \nFor one hour\, beginning at 5:30pm on the Newton Centre Green\, local activists will meet to sing\, chant\, and hear informed and inspiring speakers. The MPF coalition’s Rally message to the statehouse is this: act on critical climate bills now\, while there is time to craft good solutions\, not rushed compromises. \nFor three sessions in a row\, important bills have been left to the last minute\, making it nearly impossible for legislators and the public to engage in a meaningful democratic process. The corporations and utilities benefit from the last minute dash.
URL:https://www.newtonbeacon.org/event/join-us-rally-to-urge-statehouse-action-on-climate-bills/
LOCATION:Newton Centre Green\, Newton\, MA
CATEGORIES:Community,Politics & Policy
ATTACH;FMTTYPE=image/jpeg:https://www.newtonbeacon.org/wp-content/uploads/2024/05/MassPowerForwardRally.jpg
END:VEVENT
BEGIN:VEVENT
DTSTART;TZID=America/New_York:20240505T120000
DTEND;TZID=America/New_York:20240505T133000
DTSTAMP:20260419T052816
CREATED:20240418T210136Z
LAST-MODIFIED:20240418T210136Z
UID:10000697-1714910400-1714915800@www.newtonbeacon.org
SUMMARY:Climate Policy Game
DESCRIPTION:We all know climate change is happening\, so what can we do to slow it down and turn it around? Join us for a game using MIT’s En-ROADS climate model simulator to see what does and doesn’t help on individual and community levels — FUUSN\, city\, state\, nation\, and planet. Middle schoolers and up are welcome to participate\, and light refreshments will be served. In-person only\, RSVP requested. \nLink for “RSVP Requested”: https://docs.google.com/forms/d/e/1FAIpQLSdrWuMKw7m9brGcj1a6k3y18IZdfM61SK2vWlzARHyh0Uhcog/viewform?usp=sf_link
URL:https://www.newtonbeacon.org/event/climate-policy-game/
LOCATION:First Unitarian Universalist Society in Newton\, 1326 Washington Street\, West Newton\, MA\, 02465\, United States
CATEGORIES:Education,Politics & Policy
ATTACH;FMTTYPE=image/jpeg:https://www.newtonbeacon.org/wp-content/uploads/2024/04/EnRoads-Game-Logo.jpg
ORGANIZER;CN="First Unitarian Universalist Society in Newton":MAILTO:music@fusn.org
END:VEVENT
BEGIN:VEVENT
DTSTART;TZID=America/New_York:20231104T110000
DTEND;TZID=America/New_York:20231104T133000
DTSTAMP:20260419T052816
CREATED:20231102T204741Z
LAST-MODIFIED:20231102T204741Z
UID:10000060-1699095600-1699104600@www.newtonbeacon.org
SUMMARY:Newton League of Women Voters Saturday Night at the Races
DESCRIPTION:The League of Women Voters of Newton (LWVN)\, the Newton North High School Center for Civic Engagement and Service (CCES)\, and our nonpartisan co-sponsors\, invite all Newton voters to our candidating event\, Saturday Night at the Races. Voters will have an opportunity to meet the candidates running for local office and ask them about their positions on the important issues facing Newton. All candidates (whether they have a challenger or not) have been invited to participate. \nThe afternoon will be structured as a round robin. Each of the city’s eight wards will be represented at a table with each ward’s city council candidates. School Committee candidates will be available at two additional tables. Moderators assigned by LWVN\, CCES\, and our co-sponsors\, will be present at each table to make sure all voters have a chance to ask their questions and each candidate has an equal opportunity to speak. \nVoters will be given approximately 12 minutes at each table before they are signaled to move on to another table. There are ten rounds so that each voter has an opportunity to visit with the city\ncouncilors from each ward and also their school committee representative. \nFor more information\, please contact the League of Women Voters of Newton or visit LWVN’s website or the CCES website.
URL:https://www.newtonbeacon.org/event/newton-league-of-women-voters-saturday-night-at-the-races/
LOCATION:Newton North High School Cafeteria\, 457 Walnut Street\, Newton\, MA\, 02460\, United States
CATEGORIES:Community,Politics & Policy
ATTACH;FMTTYPE=image/png:https://www.newtonbeacon.org/wp-content/uploads/2023/10/2023-SNATR-social-image.png
END:VEVENT
END:VCALENDAR