BEGIN:VCALENDAR
VERSION:2.0
PRODID:-//Newton Beacon - ECPv6.15.20//NONSGML v1.0//EN
CALSCALE:GREGORIAN
METHOD:PUBLISH
X-ORIGINAL-URL:https://www.newtonbeacon.org
X-WR-CALDESC:Events for Newton Beacon
REFRESH-INTERVAL;VALUE=DURATION:PT1H
X-Robots-Tag:noindex
X-PUBLISHED-TTL:PT1H
BEGIN:VTIMEZONE
TZID:America/New_York
BEGIN:DAYLIGHT
TZOFFSETFROM:-0500
TZOFFSETTO:-0400
TZNAME:EDT
DTSTART:20250309T070000
END:DAYLIGHT
BEGIN:STANDARD
TZOFFSETFROM:-0400
TZOFFSETTO:-0500
TZNAME:EST
DTSTART:20251102T060000
END:STANDARD
BEGIN:DAYLIGHT
TZOFFSETFROM:-0500
TZOFFSETTO:-0400
TZNAME:EDT
DTSTART:20260308T070000
END:DAYLIGHT
BEGIN:STANDARD
TZOFFSETFROM:-0400
TZOFFSETTO:-0500
TZNAME:EST
DTSTART:20261101T060000
END:STANDARD
BEGIN:DAYLIGHT
TZOFFSETFROM:-0500
TZOFFSETTO:-0400
TZNAME:EDT
DTSTART:20270314T070000
END:DAYLIGHT
BEGIN:STANDARD
TZOFFSETFROM:-0400
TZOFFSETTO:-0500
TZNAME:EST
DTSTART:20271107T060000
END:STANDARD
END:VTIMEZONE
BEGIN:VEVENT
DTSTART;TZID=America/New_York:20260222T170000
DTEND;TZID=America/New_York:20260222T180000
DTSTAMP:20260424T064336
CREATED:20260219T161353Z
LAST-MODIFIED:20260219T161353Z
UID:10008626-1771779600-1771783200@www.newtonbeacon.org
SUMMARY:What’s in Your Energy Bill & What Can the State Do?: A Webinar in the “What Voters Should Know This Election Year” Series  Environmental Committee\, Newton Democratic City Committee
DESCRIPTION:Energy affordability is a key issue right now: bills are sky rocketing\, and the Massachusetts State Legislature wants to do something to appease concerned residents. But what is best for ordinary voters? \nCome find out what’s actually in your energy bill and learn about energy-affordability bills at the statehouse\, so you can talk effectively with your legislators about the best energy affordability measures for us all. \nSpeakers: \nWhat’s in Your Bill? – Jamie Van Nostrand\, Future of Heat Initiative \nWhat Does Mass Saves Do? – Carrie Katan\, Green Energy Consumers Alliance \nWhat Is the State Legislature Considering? – Vick Mohanka Sierra Club Massachusetts \nThere will be time for Q&A. \nLearn more here: https://www.newtondems.org/environmental-committee \nQuestions? \nContact Melissa Brown\, Environmental Committee Co-Chair\, NewtonDemsW5@gmail.com
URL:https://www.newtonbeacon.org/event/whats-in-your-energy-bill-what-can-the-state-do-a-webinar-in-the-what-voters-should-know-this-election-year-series-environmental-committee-newton-democratic-city-c/
LOCATION:Zoom
CATEGORIES:Politics & Policy
END:VEVENT
BEGIN:VEVENT
DTSTART;TZID=America/New_York:20260226T170000
DTEND;TZID=America/New_York:20260226T180000
DTSTAMP:20260424T064336
CREATED:20260219T161053Z
LAST-MODIFIED:20260219T161053Z
UID:10008632-1772125200-1772128800@www.newtonbeacon.org
SUMMARY:The US\, Irish America\, & the Irish Peace Process: Preliminary Reflections\, Observations & Recollections
DESCRIPTION:If the realist theories of international relations were correct\, there would have been little or no sustained U.S. governmental involvement in the Irish peace process in the 1990s and beyond. Yet history tells a different story. What explains the enduring role of Irish America in shaping U.S. policy toward Irish nationalism\, particularly in relation to Northern Ireland? How has that influence evolved over time\, and what does the future hold? Is the familiar narrative of a “vanishing” Irish and Irish-American presence in U.S. politics truly plausible? \nIreland’s relationship with the United States has long rested on ancestral ties\, shared democratic values\, and the influence of a powerful diaspora. Economic connections between the two counties are substantial\, and U.S. political and economic support has been critical in securing and sustaining peace in Northern Ireland. \nIn this Irish Institute lecture\, Brendan O’Leary\, Lauder Professor of Political Science at the University of Pennsylvania\, examines the political relationships linking Ireland\, Irish America\, and the United States\, with particular attention to the Northern Ireland peace process and the sources of sustained American engagement. All are welcome\, but registration is required.
URL:https://www.newtonbeacon.org/event/the-us-irish-america-the-irish-peace-process-preliminary-reflections-observations-recollections/
CATEGORIES:Politics & Policy
END:VEVENT
END:VCALENDAR