BEGIN:VCALENDAR
VERSION:2.0
PRODID:-//Newton Beacon - ECPv6.15.20//NONSGML v1.0//EN
CALSCALE:GREGORIAN
METHOD:PUBLISH
X-ORIGINAL-URL:https://www.newtonbeacon.org
X-WR-CALDESC:Events for Newton Beacon
REFRESH-INTERVAL;VALUE=DURATION:PT1H
X-Robots-Tag:noindex
X-PUBLISHED-TTL:PT1H
BEGIN:VTIMEZONE
TZID:America/New_York
BEGIN:DAYLIGHT
TZOFFSETFROM:-0500
TZOFFSETTO:-0400
TZNAME:EDT
DTSTART:20250309T070000
END:DAYLIGHT
BEGIN:STANDARD
TZOFFSETFROM:-0400
TZOFFSETTO:-0500
TZNAME:EST
DTSTART:20251102T060000
END:STANDARD
BEGIN:DAYLIGHT
TZOFFSETFROM:-0500
TZOFFSETTO:-0400
TZNAME:EDT
DTSTART:20260308T070000
END:DAYLIGHT
BEGIN:STANDARD
TZOFFSETFROM:-0400
TZOFFSETTO:-0500
TZNAME:EST
DTSTART:20261101T060000
END:STANDARD
BEGIN:DAYLIGHT
TZOFFSETFROM:-0500
TZOFFSETTO:-0400
TZNAME:EDT
DTSTART:20270314T070000
END:DAYLIGHT
BEGIN:STANDARD
TZOFFSETFROM:-0400
TZOFFSETTO:-0500
TZNAME:EST
DTSTART:20271107T060000
END:STANDARD
END:VTIMEZONE
BEGIN:VEVENT
DTSTART;TZID=America/New_York:20260501T190000
DTEND;TZID=America/New_York:20260501T203000
DTSTAMP:20260419T112525
CREATED:20260415T162958Z
LAST-MODIFIED:20260415T162958Z
UID:10008726-1777662000-1777667400@www.newtonbeacon.org
SUMMARY:Organ Recital - Andrew Lumsden
DESCRIPTION:Music at the Redeemer presents\nCelebrity Organ Recitalist Andrew Lumsden\n(formerly Organist of Winchester Cathedral & Westminster Abbey) \nCelebrated for his expressive musicianship and refined artistry\, Andrew Lumsden is one of Britain’s most distinguished organists and choral conductors. His career spans international performances\, acclaimed recordings\, and latterly over two decades of inspired leadership at Winchester Cathedral\, where he shaped a choir admired for its depth and clarity. A regular performer with national orchestras and over 40 years of broadcasting with the BBC\, his work unites tradition with innovation\, inspiring audiences and musicians alike. Renowned for his warmth and musical insight\, Andrew continues to influence the choral world through his performances\, broadcasts and enduring commitment to musical excellence. \n\nHome \n\nThe program\, on Redeemer’s Schoenstein organ\, will include Bach’s Toccata & Fugue in D minor\, Variations on America by Charles Ives\, music by Mozart and Bridge\, as well as Widor’s 5th Symphony. A reception will follow the recital. \nFriday\, May 1\, 2026 at 7:00pm\n379 Hammond St\, Chestnut Hill\, MA 02467\nTickets: Free with a suggested donation of $30/$20 \nOn Sunday\, May 3rd Andrew Lumsden will conduct the Redeemer Choir for Festive Evensong at 5pm. All are welcome to both events.
URL:https://www.newtonbeacon.org/event/organ-recital-andrew-lumsden/
LOCATION:Church of the Redeemer\, Chestnut Hill\, 379 Hammond St\, Chestnut Hill\, MA\, 02467
CATEGORIES:Music
END:VEVENT
BEGIN:VEVENT
DTSTART;TZID=America/New_York:20260501T190000
DTEND;TZID=America/New_York:20260501T203000
DTSTAMP:20260419T112525
CREATED:20260415T163205Z
LAST-MODIFIED:20260415T163205Z
UID:10008717-1777662000-1777667400@www.newtonbeacon.org
SUMMARY:Celebrity Organ Recital
DESCRIPTION:Celebrity Organ Recital – Andrew Lumsden (formerly Organist of Westminster Abbey and Winchester Cathedral) \nProgram includes Bach’s famous Toccata & Fugue in D minor\, Variations on America by Charles Ives\, music by Mozart and Bridge\, as well as Widor’s 5th Symphony. A reception will follow the recital.
URL:https://www.newtonbeacon.org/event/celebrity-organ-recital/
LOCATION:MA
CATEGORIES:Music
END:VEVENT
END:VCALENDAR