BEGIN:VCALENDAR
VERSION:2.0
PRODID:-//Newton Beacon - ECPv6.15.20//NONSGML v1.0//EN
CALSCALE:GREGORIAN
METHOD:PUBLISH
X-WR-CALNAME:Newton Beacon
X-ORIGINAL-URL:https://www.newtonbeacon.org
X-WR-CALDESC:Events for Newton Beacon
REFRESH-INTERVAL;VALUE=DURATION:PT1H
X-Robots-Tag:noindex
X-PUBLISHED-TTL:PT1H
BEGIN:VTIMEZONE
TZID:America/New_York
BEGIN:DAYLIGHT
TZOFFSETFROM:-0500
TZOFFSETTO:-0400
TZNAME:EDT
DTSTART:20250309T070000
END:DAYLIGHT
BEGIN:STANDARD
TZOFFSETFROM:-0400
TZOFFSETTO:-0500
TZNAME:EST
DTSTART:20251102T060000
END:STANDARD
BEGIN:DAYLIGHT
TZOFFSETFROM:-0500
TZOFFSETTO:-0400
TZNAME:EDT
DTSTART:20260308T070000
END:DAYLIGHT
BEGIN:STANDARD
TZOFFSETFROM:-0400
TZOFFSETTO:-0500
TZNAME:EST
DTSTART:20261101T060000
END:STANDARD
BEGIN:DAYLIGHT
TZOFFSETFROM:-0500
TZOFFSETTO:-0400
TZNAME:EDT
DTSTART:20270314T070000
END:DAYLIGHT
BEGIN:STANDARD
TZOFFSETFROM:-0400
TZOFFSETTO:-0500
TZNAME:EST
DTSTART:20271107T060000
END:STANDARD
END:VTIMEZONE
BEGIN:VEVENT
DTSTART;TZID=America/New_York:20260404T160000
DTEND;TZID=America/New_York:20260404T180000
DTSTAMP:20260419T112843
CREATED:20260326T165956Z
LAST-MODIFIED:20260326T165956Z
UID:10008683-1775318400-1775325600@www.newtonbeacon.org
SUMMARY:Discovering Grieg
DESCRIPTION:All Newton Music School piano faculty Alex Thomas invites you to an inspiring concert of Edvard Grieg’s most captivating piano works. From tender lyricism to fiery Nordic passion\, each piece captures the essence of Grieg’s genius. Immerse yourself in a concert where artistry and imagery blend in perfect harmony.
URL:https://www.newtonbeacon.org/event/discovering-grieg/
LOCATION:All Newton Music School\, 321 Chestnut Street\, West Newton\, MA\, 12465\, United States
CATEGORIES:Music
ORGANIZER;CN="All Newton Music School":MAILTO:bridget@allnewton.org
END:VEVENT
BEGIN:VEVENT
DTSTART;TZID=America/New_York:20260404T190000
DTEND;TZID=America/New_York:20260404T210000
DTSTAMP:20260419T112843
CREATED:20260304T165829Z
LAST-MODIFIED:20260304T165829Z
UID:10008648-1775329200-1775336400@www.newtonbeacon.org
SUMMARY:A Scottish Cèilidh with Summer McCall
DESCRIPTION:Part of The Allen Center’s Cherry Street Music series\, A Scottish Cèilidh is an evening of Gaelic folk music and dance led by caller Summer McCall and her band. Pronounced “KAY-lee\,” a cèilidh is a traditional Scottish (and Irish céilí) social gathering centered on lively\, inclusive group dancing. Guided by a caller who explains each step\, the event welcomes dancers of all ages and experience levels — no prior experience is necessary. Summer McCall has been an active member of Boston’s Celtic music community since 2019 and is a regular session musician on fiddle and cello. She serves as director of the Boston Celtic Music Festival\, presented annually by Club Passim. Her band features Elizabeth Anderson (fiddle)\, Adam Hendey (guitar)\, Stephen Thomsforde (pipes)\, and Simon Lace (drums). We hope you’ll join us for this upbeat evening of music and dance!
URL:https://www.newtonbeacon.org/event/a-scottish-ceilidh-with-summer-mccall/
LOCATION:The Allen Center\, 35 Webster Street\, Newton\, MA\, 02465\, United States
CATEGORIES:Community,Music
ORGANIZER;CN="Newton Cultural Alliance":MAILTO:contact@newtonculture.org
END:VEVENT
END:VCALENDAR