BEGIN:VCALENDAR
VERSION:2.0
PRODID:-//Newton Beacon - ECPv6.15.20//NONSGML v1.0//EN
CALSCALE:GREGORIAN
METHOD:PUBLISH
X-WR-CALNAME:Newton Beacon
X-ORIGINAL-URL:https://www.newtonbeacon.org
X-WR-CALDESC:Events for Newton Beacon
REFRESH-INTERVAL;VALUE=DURATION:PT1H
X-Robots-Tag:noindex
X-PUBLISHED-TTL:PT1H
BEGIN:VTIMEZONE
TZID:America/New_York
BEGIN:DAYLIGHT
TZOFFSETFROM:-0500
TZOFFSETTO:-0400
TZNAME:EDT
DTSTART:20250309T070000
END:DAYLIGHT
BEGIN:STANDARD
TZOFFSETFROM:-0400
TZOFFSETTO:-0500
TZNAME:EST
DTSTART:20251102T060000
END:STANDARD
BEGIN:DAYLIGHT
TZOFFSETFROM:-0500
TZOFFSETTO:-0400
TZNAME:EDT
DTSTART:20260308T070000
END:DAYLIGHT
BEGIN:STANDARD
TZOFFSETFROM:-0400
TZOFFSETTO:-0500
TZNAME:EST
DTSTART:20261101T060000
END:STANDARD
BEGIN:DAYLIGHT
TZOFFSETFROM:-0500
TZOFFSETTO:-0400
TZNAME:EDT
DTSTART:20270314T070000
END:DAYLIGHT
BEGIN:STANDARD
TZOFFSETFROM:-0400
TZOFFSETTO:-0500
TZNAME:EST
DTSTART:20271107T060000
END:STANDARD
END:VTIMEZONE
BEGIN:VEVENT
DTSTART;TZID=America/New_York:20260329T100000
DTEND;TZID=America/New_York:20260329T133000
DTSTAMP:20260419T160625
CREATED:20260326T165612Z
LAST-MODIFIED:20260326T165639Z
UID:10008687-1774778400-1774791000@www.newtonbeacon.org
SUMMARY:Palm Sunday and Celebrating Women Concert
DESCRIPTION:Join Eliot Church of Newton for a joyously memorable service and concert on Sunday March 29th. At 10am the church will celebrate a service of Palm Sunday in preparation for Easter\, and following the service Siu Wai Stroshane will present a concert celebrating both real and legendary women in history and the Bible for Women’s History Month. Siu Wai’s songs pay tribute to Amelia Earhart\, Fa Mu Lan (the Woman Warrior)\, Nannerl Mozart\, and Ruby Bridges. You’ll also hear the stories of Eve\, Lot’s Wife\, Bathsheba\, and Mary Magdalene\, from their point of view.
URL:https://www.newtonbeacon.org/event/palm-sunday-and-celebrating-women-concert/
LOCATION:MA
CATEGORIES:Community,Music
END:VEVENT
BEGIN:VEVENT
DTSTART;TZID=America/New_York:20260329T150000
DTEND;TZID=America/New_York:20260329T170000
DTSTAMP:20260419T160625
CREATED:20260318T145321Z
LAST-MODIFIED:20260318T145321Z
UID:10008673-1774796400-1774803600@www.newtonbeacon.org
SUMMARY:Soul to Soul
DESCRIPTION:Sinfonietta • Ryan Fillinger\n​\nSoul to Soul • Quinn Mason\n​\nSymphony No. 10\, “The River of Time” • David Maslanka
URL:https://www.newtonbeacon.org/event/soul-to-soul/
LOCATION:300 HPP\, 300 Hammond Pond Parkway\, Chestnut Hill\, MA\, 02476\, United States
CATEGORIES:Music
ORGANIZER;CN="Charles River Wind Ensemble":MAILTO:charlesriverwindensemble@gmail.com
END:VEVENT
BEGIN:VEVENT
DTSTART;TZID=America/New_York:20260329T150000
DTEND;TZID=America/New_York:20260329T170000
DTSTAMP:20260419T160625
CREATED:20260318T150326Z
LAST-MODIFIED:20260318T150326Z
UID:10008671-1774796400-1774803600@www.newtonbeacon.org
SUMMARY:Curtain Up Hits The Road! New Musical Theater Songs by Berklee Students
DESCRIPTION:Cherry Street Music at The Allen Center presents an unforgettable afternoon of fresh\, original musical theater! Experience brand-new songs written and performed by the talented students of Berklee College of Music\, featuring standout pieces from the winners of Berklee’s annual Curtain Up competition. This wonderful showcase will be hosted by Julius P. Williams\, III\, Berklee professor and featured artist on Britain’s Got Talent. Be among the first to hear the next generation of musical theater come to life in an intimate\, up-close performance you won’t want to miss!
URL:https://www.newtonbeacon.org/event/curtain-up-hits-the-road-new-musical-theater-songs-by-berklee-students/
LOCATION:The Allen Center\, 35 Webster Street\, Newton\, MA\, 02465\, United States
CATEGORIES:Community,Music
ORGANIZER;CN="Newton Cultural Alliance":MAILTO:contact@newtonculture.org
END:VEVENT
END:VCALENDAR