BEGIN:VCALENDAR
VERSION:2.0
PRODID:-//Newton Beacon - ECPv6.15.20//NONSGML v1.0//EN
CALSCALE:GREGORIAN
METHOD:PUBLISH
X-ORIGINAL-URL:https://www.newtonbeacon.org
X-WR-CALDESC:Events for Newton Beacon
REFRESH-INTERVAL;VALUE=DURATION:PT1H
X-Robots-Tag:noindex
X-PUBLISHED-TTL:PT1H
BEGIN:VTIMEZONE
TZID:America/New_York
BEGIN:DAYLIGHT
TZOFFSETFROM:-0500
TZOFFSETTO:-0400
TZNAME:EDT
DTSTART:20240310T070000
END:DAYLIGHT
BEGIN:STANDARD
TZOFFSETFROM:-0400
TZOFFSETTO:-0500
TZNAME:EST
DTSTART:20241103T060000
END:STANDARD
BEGIN:DAYLIGHT
TZOFFSETFROM:-0500
TZOFFSETTO:-0400
TZNAME:EDT
DTSTART:20250309T070000
END:DAYLIGHT
BEGIN:STANDARD
TZOFFSETFROM:-0400
TZOFFSETTO:-0500
TZNAME:EST
DTSTART:20251102T060000
END:STANDARD
BEGIN:DAYLIGHT
TZOFFSETFROM:-0500
TZOFFSETTO:-0400
TZNAME:EDT
DTSTART:20260308T070000
END:DAYLIGHT
BEGIN:STANDARD
TZOFFSETFROM:-0400
TZOFFSETTO:-0500
TZNAME:EST
DTSTART:20261101T060000
END:STANDARD
END:VTIMEZONE
BEGIN:VEVENT
DTSTART;TZID=America/New_York:20250624T130000
DTEND;TZID=America/New_York:20250624T140000
DTSTAMP:20260422T061523
CREATED:20250611T133724Z
LAST-MODIFIED:20250611T133724Z
UID:10007761-1750770000-1750773600@www.newtonbeacon.org
SUMMARY:Santon: Pianist and Composer Defying Limits
DESCRIPTION:Santon\, a blind and autistic pianist and composer\, is captivating audiences with his emotionally rich and stylistically diverse performances. Born in St. Petersburg\, Russia\, and raised in Massachusetts\, he spent two decades studying at Perkins School for the Blind\, where he received foundational musical training. Santon later graduated summa cum laude from Berklee College of Music\, further honing his skills as a performer and composer. His dynamic repertoire spans classical\, jazz\, tango\, and world music. Santon continues to inspire with his remarkable talent\, breaking barriers and redefining what’s possible through music. \nThis program is generously sponsored by the Jayne Colino Fund of the Senior Citizens Fund of Newton. \nRSVP requested. Please call 617-796-1675\, stop by the Front Desk at 20 Hartford Street\, or send your name\, telephone number\, and email address to our receptionists at OASprograms@newtonma.gov
URL:https://www.newtonbeacon.org/event/santon-pianist-and-composer-defying-limits/
LOCATION:Newton Free Library – Druker Auditorium\, 330 Homer Street\, Newton\, MA\, 02459\, United States
CATEGORIES:Music
END:VEVENT
BEGIN:VEVENT
DTSTART;TZID=America/New_York:20250624T150000
DTEND;TZID=America/New_York:20250624T163000
DTSTAMP:20260422T061523
CREATED:20240919T200513Z
LAST-MODIFIED:20250429T225252Z
UID:10001702-1750777200-1750782600@www.newtonbeacon.org
SUMMARY:Newton Singers Community Chorus | Open Rehearsals
DESCRIPTION:All are welcome! We are a fun\, friendly choir starting our fall season on September 24th. \nOur repertoire includes songs from the American Songbook\, showtunes\, Jazz\, madrigals\, folk songs\, and much more!!\nHere are some of our past programs here: https://newtonsingers.org/index.php/previous-seasons/ \nWe are seeking Sopranos\, Altos\, Tenors\, and Basses to round out our membership and achieve a nice blend. \nCheck us out at an open rehearsal. Tuesdays may soon be your favorite day of the week!!
URL:https://www.newtonbeacon.org/event/newton-singers-community-chorus-open-rehearsals-2/2025-06-24/
LOCATION:150 Lowell Ave\, Newtonville\, 150 Lowell Ave\, Newtonville\, 02460\, United States
CATEGORIES:Community,Music
ORGANIZER;CN="Newton Community Pride":MAILTO:contactus@newtoncommunitypride.org
END:VEVENT
END:VCALENDAR