BEGIN:VCALENDAR
VERSION:2.0
PRODID:-//Newton Beacon - ECPv6.15.20//NONSGML v1.0//EN
CALSCALE:GREGORIAN
METHOD:PUBLISH
X-ORIGINAL-URL:https://www.newtonbeacon.org
X-WR-CALDESC:Events for Newton Beacon
REFRESH-INTERVAL;VALUE=DURATION:PT1H
X-Robots-Tag:noindex
X-PUBLISHED-TTL:PT1H
BEGIN:VTIMEZONE
TZID:America/New_York
BEGIN:DAYLIGHT
TZOFFSETFROM:-0500
TZOFFSETTO:-0400
TZNAME:EDT
DTSTART:20240310T070000
END:DAYLIGHT
BEGIN:STANDARD
TZOFFSETFROM:-0400
TZOFFSETTO:-0500
TZNAME:EST
DTSTART:20241103T060000
END:STANDARD
BEGIN:DAYLIGHT
TZOFFSETFROM:-0500
TZOFFSETTO:-0400
TZNAME:EDT
DTSTART:20250309T070000
END:DAYLIGHT
BEGIN:STANDARD
TZOFFSETFROM:-0400
TZOFFSETTO:-0500
TZNAME:EST
DTSTART:20251102T060000
END:STANDARD
BEGIN:DAYLIGHT
TZOFFSETFROM:-0500
TZOFFSETTO:-0400
TZNAME:EDT
DTSTART:20260308T070000
END:DAYLIGHT
BEGIN:STANDARD
TZOFFSETFROM:-0400
TZOFFSETTO:-0500
TZNAME:EST
DTSTART:20261101T060000
END:STANDARD
END:VTIMEZONE
BEGIN:VEVENT
DTSTART;TZID=America/New_York:20250701T150000
DTEND;TZID=America/New_York:20250701T163000
DTSTAMP:20260419T081107
CREATED:20240919T200513Z
LAST-MODIFIED:20250429T225252Z
UID:10001703-1751382000-1751387400@www.newtonbeacon.org
SUMMARY:Newton Singers Community Chorus | Open Rehearsals
DESCRIPTION:All are welcome! We are a fun\, friendly choir starting our fall season on September 24th. \nOur repertoire includes songs from the American Songbook\, showtunes\, Jazz\, madrigals\, folk songs\, and much more!!\nHere are some of our past programs here: https://newtonsingers.org/index.php/previous-seasons/ \nWe are seeking Sopranos\, Altos\, Tenors\, and Basses to round out our membership and achieve a nice blend. \nCheck us out at an open rehearsal. Tuesdays may soon be your favorite day of the week!!
URL:https://www.newtonbeacon.org/event/newton-singers-community-chorus-open-rehearsals-2/2025-07-01/
LOCATION:150 Lowell Ave\, Newtonville\, 150 Lowell Ave\, Newtonville\, 02460\, United States
CATEGORIES:Community,Music
ORGANIZER;CN="Newton Community Pride":MAILTO:contactus@newtoncommunitypride.org
END:VEVENT
BEGIN:VEVENT
DTSTART;TZID=America/New_York:20250702T130000
DTEND;TZID=America/New_York:20250702T140000
DTSTAMP:20260419T081107
CREATED:20250625T165108Z
LAST-MODIFIED:20250625T165108Z
UID:10007774-1751461200-1751464800@www.newtonbeacon.org
SUMMARY:Concert with Violinist Ilana Zaks
DESCRIPTION:This concert features a blend of works that explore both the virtuosic and expressive qualities of the violin. From the deep spirituality of Lera Auerbach’s T’filah to the baroque elegance of Bach’s Sonata\, the program spans diverse styles and centuries. Including pieces by Bloch\, Kreisler\, and Paganini\, this concert highlights both the power and beauty of the violin in solo performance. \nJewish-American violinist Ilana Zaks has been described as\, “fearless\, refreshing\, and commanding.” She has performed as a soloist with the Boston Civic Symphony\, the Rhode Island Philharmonic Orchestra\, and the Boston Philharmonic Youth Orchestra\, among others. Her many honors include top prizes at concerto competitions such as the 2020 BMOP Concerto Competition and the New England Philharmonic Orchestra. \nThis program is generously sponsored by the Jayne Colino Fund of the Senior Citizens Fund of Newton. \nRSVP requested. Please call 617-796-1675\, stop by the Front Desk at 20 Hartford Street\, or send your name\, telephone number\, and email address to our receptionists at OASprograms@newtonma.gov
URL:https://www.newtonbeacon.org/event/concert-with-violinist-ilana-zaks/
LOCATION:Newton Free Library – Druker Auditorium\, 330 Homer Street\, Newton\, MA\, 02459\, United States
CATEGORIES:Music
END:VEVENT
BEGIN:VEVENT
DTSTART;TZID=America/New_York:20250708T150000
DTEND;TZID=America/New_York:20250708T163000
DTSTAMP:20260419T081107
CREATED:20240919T200513Z
LAST-MODIFIED:20250429T225252Z
UID:10001704-1751986800-1751992200@www.newtonbeacon.org
SUMMARY:Newton Singers Community Chorus | Open Rehearsals
DESCRIPTION:All are welcome! We are a fun\, friendly choir starting our fall season on September 24th. \nOur repertoire includes songs from the American Songbook\, showtunes\, Jazz\, madrigals\, folk songs\, and much more!!\nHere are some of our past programs here: https://newtonsingers.org/index.php/previous-seasons/ \nWe are seeking Sopranos\, Altos\, Tenors\, and Basses to round out our membership and achieve a nice blend. \nCheck us out at an open rehearsal. Tuesdays may soon be your favorite day of the week!!
URL:https://www.newtonbeacon.org/event/newton-singers-community-chorus-open-rehearsals-2/2025-07-08/
LOCATION:150 Lowell Ave\, Newtonville\, 150 Lowell Ave\, Newtonville\, 02460\, United States
CATEGORIES:Community,Music
ORGANIZER;CN="Newton Community Pride":MAILTO:contactus@newtoncommunitypride.org
END:VEVENT
BEGIN:VEVENT
DTSTART;TZID=America/New_York:20250708T190000
DTEND;TZID=America/New_York:20250708T203000
DTSTAMP:20260419T081107
CREATED:20250710T163152Z
LAST-MODIFIED:20250710T163152Z
UID:10007794-1752001200-1752006600@www.newtonbeacon.org
SUMMARY:Outrageous Fortune with Paul Rishell & Annie Raines
DESCRIPTION:Cherry Street Music presents the first in a dynamic series of summer gatherings on The Allen Center patio* on Wednesday\, July 9th at 7pm. Join us for a thrilling concert with the Outrageous Fortune jug band\, featuring renowned Blues duo Paul Rishell & Annie Raines. Enjoy a fun\, relaxing evening at The Allen Center\, West Newton’s community hub for Arts & Culture. For more information: www.newtonculture.org \n*weather permitting- in the event of rain\, the concert will move indoors.
URL:https://www.newtonbeacon.org/event/outrageous-fortune-with-paul-rishell-annie-raines/
LOCATION:The Allen Center\, 35 Webster Street\, Newton\, MA\, 02465\, United States
CATEGORIES:Music
ORGANIZER;CN="Cherry Street Music":MAILTO:operations@newtonculture.org
END:VEVENT
BEGIN:VEVENT
DTSTART;TZID=America/New_York:20250712T140000
DTEND;TZID=America/New_York:20250712T170000
DTSTAMP:20260419T081107
CREATED:20250703T161212Z
LAST-MODIFIED:20250703T161212Z
UID:10007777-1752328800-1752339600@www.newtonbeacon.org
SUMMARY:Poetry Party on Newton Centre Plaza
DESCRIPTION:On 7/12 a Poetry Party sponsored by Newtonville Books 2-5 will be happening! Local artist Ingrid Chiemi will be playing some tunes from “What the Horizon Can Hold\,” her new book of song lyrics + art about what’s beyond and ways to reach that https://www.newtonvillebooks.com/book/9798317802318 & also a couple from local artist JENNY PIVOR’s beautiful new book of poetry and art\, “It’s a Little Skimpy” + Jenny will read from her book\, followed by an open mic on the newly finished Newton Centre Plaza! All net proceeds from Ingrid’s new book go to Asian Women For Health\, a nonprofit connecting Asian women + their families & allies with resources for better health outcomes\, including training Community Health Workers + community focus groups – see https://asianwomenforhealth.org for more info. #poetryparty #newtonvillebooks #openmic #openmicpoetry
URL:https://www.newtonbeacon.org/event/poetry-party-on-newton-centre-plaza/
LOCATION:Newton Centre\, Newton
CATEGORIES:Community,Music,Visual Arts
END:VEVENT
BEGIN:VEVENT
DTSTART;TZID=America/New_York:20250712T170000
DTEND;TZID=America/New_York:20250712T180000
DTSTAMP:20260419T081107
CREATED:20250710T163534Z
LAST-MODIFIED:20250710T163534Z
UID:10007789-1752339600-1752343200@www.newtonbeacon.org
SUMMARY:Summer Chime Concert
DESCRIPTION:The First Unitarian Universalist Society in Newton is presenting a free Summer Chime Concert on Saturday July 12 at 5pm. All are welcome to bring lawn chairs\, blankets\, and refreshments to the church grounds. \nKids and grown-ups will be able to enjoy the music throughout West Newton Square\, including Captain Ryan Park across the street from the church. The concert will take place rain or shine – indoor seating will be provided in case of rain. \nFree chime concerts will also be presented on August 2 and August 30.
URL:https://www.newtonbeacon.org/event/summer-chime-concert/2025-07-12/
LOCATION:First Unitarian Universalist Society in Newton\, 1326 Washington Street\, West Newton\, MA\, 02465\, United States
CATEGORIES:Music
ORGANIZER;CN="First Unitarian Universalist Society in Newton":MAILTO:music@fusn.org
END:VEVENT
BEGIN:VEVENT
DTSTART;TZID=America/New_York:20250715T130000
DTEND;TZID=America/New_York:20250715T140000
DTSTAMP:20260419T081107
CREATED:20250703T160344Z
LAST-MODIFIED:20250703T160344Z
UID:10007784-1752584400-1752588000@www.newtonbeacon.org
SUMMARY:The Great American Songbook:  Concert with Elaine Woo and Tom Lamark
DESCRIPTION:Elaine Woo (vocals) and Tom Lamark (keyboard) will perform tunes from the Great American Songbook. Those songs can convey anything: hopes\, feelings\, fears\, dreams\, ups and downs\, and everything in between. Come and let music be your guide to a good day! \nThis program is generously sponsored by the Jayne Colino Fund of the Senior Citizens Fund of Newton. \nRSVP requested. Please call 617-796-1675\, stop by the Front Desk at 20 Hartford Street\, or send your name\, telephone number\, and email address to our receptionists at OASprograms@newtonma.gov
URL:https://www.newtonbeacon.org/event/the-great-american-songbook-concert-with-elaine-woo-and-tom-lamark/
LOCATION:Newton Free Library – Druker Auditorium\, 330 Homer Street\, Newton\, MA\, 02459\, United States
CATEGORIES:Music
END:VEVENT
BEGIN:VEVENT
DTSTART;TZID=America/New_York:20250715T150000
DTEND;TZID=America/New_York:20250715T163000
DTSTAMP:20260419T081107
CREATED:20240919T200513Z
LAST-MODIFIED:20250429T225252Z
UID:10001705-1752591600-1752597000@www.newtonbeacon.org
SUMMARY:Newton Singers Community Chorus | Open Rehearsals
DESCRIPTION:All are welcome! We are a fun\, friendly choir starting our fall season on September 24th. \nOur repertoire includes songs from the American Songbook\, showtunes\, Jazz\, madrigals\, folk songs\, and much more!!\nHere are some of our past programs here: https://newtonsingers.org/index.php/previous-seasons/ \nWe are seeking Sopranos\, Altos\, Tenors\, and Basses to round out our membership and achieve a nice blend. \nCheck us out at an open rehearsal. Tuesdays may soon be your favorite day of the week!!
URL:https://www.newtonbeacon.org/event/newton-singers-community-chorus-open-rehearsals-2/2025-07-15/
LOCATION:150 Lowell Ave\, Newtonville\, 150 Lowell Ave\, Newtonville\, 02460\, United States
CATEGORIES:Community,Music
ORGANIZER;CN="Newton Community Pride":MAILTO:contactus@newtoncommunitypride.org
END:VEVENT
BEGIN:VEVENT
DTSTART;TZID=America/New_York:20250715T190000
DTEND;TZID=America/New_York:20250715T203000
DTSTAMP:20260419T081107
CREATED:20250710T163252Z
LAST-MODIFIED:20250710T163252Z
UID:10007793-1752606000-1752611400@www.newtonbeacon.org
SUMMARY:Hidden Gems presented by Cherry Street Music
DESCRIPTION:Cherry Street Music is heating things up this summer at The Allen Center with fun\, affordable concerts every Tuesday night\, beginning July 15th at 7pm with “Hidden Gems”. Discover the music of lesser-known female composers in a unique concert experience\, which will take place in The Allen Center’s intimate performance space\, the Great Hall. Explore each composition with commentary by Cherry Street Music’s Artistic Director\, Allison Eldredge\, cello\, who will perform with pianist Max Levinson. During the second half of the program\, local singer/songwriter Gaby Dimond joins the duo for a contemporary spin on the concert’s theme\, “Hidden Gems”.
URL:https://www.newtonbeacon.org/event/hidden-gems-presented-by-cherry-street-music/
LOCATION:The Allen Center\, 35 Webster Street\, Newton\, MA\, 02465\, United States
CATEGORIES:Music
ORGANIZER;CN="Cherry Street Music":MAILTO:operations@newtonculture.org
END:VEVENT
BEGIN:VEVENT
DTSTART;TZID=America/New_York:20250722T150000
DTEND;TZID=America/New_York:20250722T163000
DTSTAMP:20260419T081107
CREATED:20240919T200513Z
LAST-MODIFIED:20250429T225252Z
UID:10001706-1753196400-1753201800@www.newtonbeacon.org
SUMMARY:Newton Singers Community Chorus | Open Rehearsals
DESCRIPTION:All are welcome! We are a fun\, friendly choir starting our fall season on September 24th. \nOur repertoire includes songs from the American Songbook\, showtunes\, Jazz\, madrigals\, folk songs\, and much more!!\nHere are some of our past programs here: https://newtonsingers.org/index.php/previous-seasons/ \nWe are seeking Sopranos\, Altos\, Tenors\, and Basses to round out our membership and achieve a nice blend. \nCheck us out at an open rehearsal. Tuesdays may soon be your favorite day of the week!!
URL:https://www.newtonbeacon.org/event/newton-singers-community-chorus-open-rehearsals-2/2025-07-22/
LOCATION:150 Lowell Ave\, Newtonville\, 150 Lowell Ave\, Newtonville\, 02460\, United States
CATEGORIES:Community,Music
ORGANIZER;CN="Newton Community Pride":MAILTO:contactus@newtoncommunitypride.org
END:VEVENT
BEGIN:VEVENT
DTSTART;TZID=America/New_York:20250722T190000
DTEND;TZID=America/New_York:20250722T203000
DTSTAMP:20260419T081107
CREATED:20250716T150111Z
LAST-MODIFIED:20250716T150111Z
UID:10007797-1753210800-1753216200@www.newtonbeacon.org
SUMMARY:Summer Lite presented by Cherry Street Music
DESCRIPTION:Cherry Street Music brings another budget-friendly concert to The Allen Center with its Tuesday Evening Concert Series\, continuing July 22nd at 7 pm with “Summer Lite.” Experience Irish music by Fiddler Isabel Oliart\, along with Jazz Quartet\, Chris Pitts and Friends\, in The Allen Center’s cozy performance venue. Join us for an exceptional blend of Newton artists performing Jazz favorites and traditional Irish fiddle! For more info & tickets: www.newtonculture.org
URL:https://www.newtonbeacon.org/event/summer-lite-presented-by-cherry-street-music/
LOCATION:The Allen Center\, 35 Webster Street\, Newton\, MA\, 02465\, United States
CATEGORIES:Music
ORGANIZER;CN="Newton Cultural Alliance":MAILTO:contact@newtonculture.org
END:VEVENT
BEGIN:VEVENT
DTSTART;TZID=America/New_York:20250729T150000
DTEND;TZID=America/New_York:20250729T163000
DTSTAMP:20260419T081107
CREATED:20240919T200513Z
LAST-MODIFIED:20250429T225252Z
UID:10001707-1753801200-1753806600@www.newtonbeacon.org
SUMMARY:Newton Singers Community Chorus | Open Rehearsals
DESCRIPTION:All are welcome! We are a fun\, friendly choir starting our fall season on September 24th. \nOur repertoire includes songs from the American Songbook\, showtunes\, Jazz\, madrigals\, folk songs\, and much more!!\nHere are some of our past programs here: https://newtonsingers.org/index.php/previous-seasons/ \nWe are seeking Sopranos\, Altos\, Tenors\, and Basses to round out our membership and achieve a nice blend. \nCheck us out at an open rehearsal. Tuesdays may soon be your favorite day of the week!!
URL:https://www.newtonbeacon.org/event/newton-singers-community-chorus-open-rehearsals-2/2025-07-29/
LOCATION:150 Lowell Ave\, Newtonville\, 150 Lowell Ave\, Newtonville\, 02460\, United States
CATEGORIES:Community,Music
ORGANIZER;CN="Newton Community Pride":MAILTO:contactus@newtoncommunitypride.org
END:VEVENT
BEGIN:VEVENT
DTSTART;TZID=America/New_York:20250731T080000
DTEND;TZID=America/New_York:20250731T170000
DTSTAMP:20260419T081107
CREATED:20250806T171723Z
LAST-MODIFIED:20250806T171723Z
UID:10007831-1753948800-1753981200@www.newtonbeacon.org
SUMMARY:Sentimental Breeze
DESCRIPTION:In this final installment of Cherry Street Music’s Tuesday Evening Summer Series at The Allen Center\, we’re bringing you a very special\, very breezy concert\, featuring a mid-summer mix of Classical music & Folk-inspired Celtic tunes to get you feelin’ fine! Join us Tuesday\, August 12th at 7pm for “Sentimental Breeze” with Sayuri Miyamoto\, piano\, Joel Bard\, oboe\, and Kyra Davies & Sean Smith\, Celtic Duo. Relax in the historic Allen Center’s Great Hall\, and let the music whisk you away\, with a reception on the patio (weather permitting). For more information\, visit www.newtonculture.org/cherry-street-music
URL:https://www.newtonbeacon.org/event/sentimental-breeze/
LOCATION:The Allen Center\, 35 Webster Street\, Newton\, MA\, 02465\, United States
CATEGORIES:Community,Music
ORGANIZER;CN="Cherry Street Music":MAILTO:operations@newtonculture.org
END:VEVENT
END:VCALENDAR