BEGIN:VCALENDAR
VERSION:2.0
PRODID:-//Newton Beacon - ECPv6.15.20//NONSGML v1.0//EN
CALSCALE:GREGORIAN
METHOD:PUBLISH
X-WR-CALNAME:Newton Beacon
X-ORIGINAL-URL:https://www.newtonbeacon.org
X-WR-CALDESC:Events for Newton Beacon
REFRESH-INTERVAL;VALUE=DURATION:PT1H
X-Robots-Tag:noindex
X-PUBLISHED-TTL:PT1H
BEGIN:VTIMEZONE
TZID:America/New_York
BEGIN:DAYLIGHT
TZOFFSETFROM:-0500
TZOFFSETTO:-0400
TZNAME:EDT
DTSTART:20250309T070000
END:DAYLIGHT
BEGIN:STANDARD
TZOFFSETFROM:-0400
TZOFFSETTO:-0500
TZNAME:EST
DTSTART:20251102T060000
END:STANDARD
BEGIN:DAYLIGHT
TZOFFSETFROM:-0500
TZOFFSETTO:-0400
TZNAME:EDT
DTSTART:20260308T070000
END:DAYLIGHT
BEGIN:STANDARD
TZOFFSETFROM:-0400
TZOFFSETTO:-0500
TZNAME:EST
DTSTART:20261101T060000
END:STANDARD
BEGIN:DAYLIGHT
TZOFFSETFROM:-0500
TZOFFSETTO:-0400
TZNAME:EDT
DTSTART:20270314T070000
END:DAYLIGHT
BEGIN:STANDARD
TZOFFSETFROM:-0400
TZOFFSETTO:-0500
TZNAME:EST
DTSTART:20271107T060000
END:STANDARD
END:VTIMEZONE
BEGIN:VEVENT
DTSTART;TZID=America/New_York:20260501T090000
DTEND;TZID=America/New_York:20260630T210000
DTSTAMP:20260420T213305
CREATED:20260326T165653Z
LAST-MODIFIED:20260326T165653Z
UID:10008689-1777626000-1782853200@www.newtonbeacon.org
SUMMARY:Sustainability Awareness Scavenger Hunt
DESCRIPTION:This spring\, Newton North High School sophomore Linnea Dun Rappaport is hosting a community environmental scavenger hunt designed for elementary school aged students and their families. The event encourages the young participants to explore local parks and engage in hands-on\, creative challenges such as building art from recyclable materials and arranging natural objects found outdoors. \nThe goal is to foster curiosity\, creativity\, and environmental awareness in a fun\, accessible way!
URL:https://www.newtonbeacon.org/event/sustainability-awareness-scavenger-hunt/
LOCATION:All over Newton
CATEGORIES:Children,Community,Education
END:VEVENT
END:VCALENDAR