BEGIN:VCALENDAR
VERSION:2.0
PRODID:-//Newton Beacon - ECPv6.15.20//NONSGML v1.0//EN
CALSCALE:GREGORIAN
METHOD:PUBLISH
X-ORIGINAL-URL:https://www.newtonbeacon.org
X-WR-CALDESC:Events for Newton Beacon
REFRESH-INTERVAL;VALUE=DURATION:PT1H
X-Robots-Tag:noindex
X-PUBLISHED-TTL:PT1H
BEGIN:VTIMEZONE
TZID:America/New_York
BEGIN:DAYLIGHT
TZOFFSETFROM:-0500
TZOFFSETTO:-0400
TZNAME:EDT
DTSTART:20250309T070000
END:DAYLIGHT
BEGIN:STANDARD
TZOFFSETFROM:-0400
TZOFFSETTO:-0500
TZNAME:EST
DTSTART:20251102T060000
END:STANDARD
BEGIN:DAYLIGHT
TZOFFSETFROM:-0500
TZOFFSETTO:-0400
TZNAME:EDT
DTSTART:20260308T070000
END:DAYLIGHT
BEGIN:STANDARD
TZOFFSETFROM:-0400
TZOFFSETTO:-0500
TZNAME:EST
DTSTART:20261101T060000
END:STANDARD
BEGIN:DAYLIGHT
TZOFFSETFROM:-0500
TZOFFSETTO:-0400
TZNAME:EDT
DTSTART:20270314T070000
END:DAYLIGHT
BEGIN:STANDARD
TZOFFSETFROM:-0400
TZOFFSETTO:-0500
TZNAME:EST
DTSTART:20271107T060000
END:STANDARD
END:VTIMEZONE
BEGIN:VEVENT
DTSTART;TZID=America/New_York:20260225T190000
DTEND;TZID=America/New_York:20260225T200000
DTSTAMP:20260421T011313
CREATED:20260107T154254Z
LAST-MODIFIED:20260107T154254Z
UID:10008564-1772046000-1772049600@www.newtonbeacon.org
SUMMARY:Newton History Series: The Troubled History of Race and Public Education in Massachusetts
DESCRIPTION:Many of us learn about school desegregation in the context of the mid-twentieth-century South: Brown v. Board of Education\, Ruby Bridges\, and the Little Rock Nine. Yet a century before that\, young Black women in Massachusetts led the fight for equal school rights—the right of all to a quality education on an equal basis. This lecture examines the lives of young Black women whose activism reshaped public education in the Bay State. Exploring this history is vital\, not only to spotlight the long struggle for Black educational justice\, but also to remind us of our collective obligation to democratize public schools today. \nAbout the speaker: Kabria Baumgartner is an award-winning historian who has worked with numerous historical organizations. In 2021\, she co-founded the award-winning Newburyport Black History Initiative (NBHI)\, an organization that highlights and incorporates Black history into the public landscape in downtown Newburyport. In 2019\, she published her first academic book\, In Pursuit of Knowledge: Black Women and Educational Activism in Antebellum America\, which tells the story of young Black women who fought to democratize public education in the nineteenth-century North. She is Dean’s Associate Professor of History and Africana Studies at Northeastern University. \nThis program is part of the Newton History Series\, co-sponsored by Historic Newton and the Newton Free Library. \nRegistration is encouraged\, and you’ll get a reminder if you sign up. Walk-ins are also welcome.
URL:https://www.newtonbeacon.org/event/newton-history-series-the-troubled-history-of-race-and-public-education-in-massachusetts/
LOCATION:Newton Free Library – Druker Auditorium\, 330 Homer Street\, Newton\, MA\, 02459\, United States
CATEGORIES:Community,Education
ORGANIZER;CN="Historic Newton":MAILTO:info@historicnewton.org
END:VEVENT
END:VCALENDAR