BEGIN:VCALENDAR
VERSION:2.0
PRODID:-//Newton Beacon - ECPv6.15.20//NONSGML v1.0//EN
CALSCALE:GREGORIAN
METHOD:PUBLISH
X-ORIGINAL-URL:https://www.newtonbeacon.org
X-WR-CALDESC:Events for Newton Beacon
REFRESH-INTERVAL;VALUE=DURATION:PT1H
X-Robots-Tag:noindex
X-PUBLISHED-TTL:PT1H
BEGIN:VTIMEZONE
TZID:America/New_York
BEGIN:DAYLIGHT
TZOFFSETFROM:-0500
TZOFFSETTO:-0400
TZNAME:EDT
DTSTART:20250309T070000
END:DAYLIGHT
BEGIN:STANDARD
TZOFFSETFROM:-0400
TZOFFSETTO:-0500
TZNAME:EST
DTSTART:20251102T060000
END:STANDARD
BEGIN:DAYLIGHT
TZOFFSETFROM:-0500
TZOFFSETTO:-0400
TZNAME:EDT
DTSTART:20260308T070000
END:DAYLIGHT
BEGIN:STANDARD
TZOFFSETFROM:-0400
TZOFFSETTO:-0500
TZNAME:EST
DTSTART:20261101T060000
END:STANDARD
BEGIN:DAYLIGHT
TZOFFSETFROM:-0500
TZOFFSETTO:-0400
TZNAME:EDT
DTSTART:20270314T070000
END:DAYLIGHT
BEGIN:STANDARD
TZOFFSETFROM:-0400
TZOFFSETTO:-0500
TZNAME:EST
DTSTART:20271107T060000
END:STANDARD
END:VTIMEZONE
BEGIN:VEVENT
DTSTART;TZID=America/New_York:20260312T190000
DTEND;TZID=America/New_York:20260312T200000
DTSTAMP:20260420T231827
CREATED:20260107T154238Z
LAST-MODIFIED:20260107T154238Z
UID:10008565-1773342000-1773345600@www.newtonbeacon.org
SUMMARY:Newton History Series: The Origins and Transformations of Chinese Communities in Boston
DESCRIPTION:When did Chinese migration to Boston begin? How did Boston’s Chinatown take shape\, and what is its current status? This talk traces the origins of the Chinese presence in the region and examines their experiences from the early years of the United States\, through the Chinese Exclusion Era (1882–1943)\, to the recent decades that have witnessed the community’s significant growth across Greater Boston\, as well as the many challenges it continues to face. \nAbout the speaker: Lisong Liu is professor of history at Massachusetts College of Art and Design. His teaching and research interests focus on Chinese migration\, Asian American history\, U.S.-China relations\, and world history. His monograph on Chinese student and professional migration was published in 2015 as part of Routledge’s “Chinese Worlds” series. His current book project is about the history of Chinese immigrants in Boston. He is an associate in research at the Harvard Fairbank Center for Chinese Studies and also a member of the International Advisory Committee at the Chinese Heritage Center at Nanyang Technological University\, Singapore. \nThis program is part of the Newton History Series\, co-sponsored by Historic Newton and the Newton Free Library. \nRegistration is encouraged\, and you’ll get a reminder if you sign up. Walk-ins are also welcome.
URL:https://www.newtonbeacon.org/event/newton-history-series-the-origins-and-transformations-of-chinese-communities-in-boston/
LOCATION:Newton Free Library – Druker Auditorium\, 330 Homer Street\, Newton\, MA\, 02459\, United States
CATEGORIES:Community,Education
ORGANIZER;CN="Historic Newton":MAILTO:info@historicnewton.org
END:VEVENT
BEGIN:VEVENT
DTSTART;TZID=America/New_York:20260326T113000
DTEND;TZID=America/New_York:20260327T213000
DTSTAMP:20260420T231827
CREATED:20260312T160817Z
LAST-MODIFIED:20260312T160817Z
UID:10008660-1774524600-1774647000@www.newtonbeacon.org
SUMMARY:Dining for Dollars: Support NECP and eat at Aji Restaurant
DESCRIPTION:Help us bring student enrichment activities like a petting zoo to Newton’s only public preschool! \nMention NECP when ordering in-person or online at Aji Restaurant in Newtonville Wed Mar 25th and Thu Mar 26th and 15% of your order will be donated to NECP. \nJoin our Facebook event to confirm your attendance: https://www.facebook.com/events/1259414599713284 \nThank you for your support!
URL:https://www.newtonbeacon.org/event/dining-for-dollars-support-necp-and-eat-at-aji-restaurant/
CATEGORIES:Education,Fundraiser
END:VEVENT
BEGIN:VEVENT
DTSTART;TZID=America/New_York:20260328T080000
DTEND;TZID=America/New_York:20260406T210000
DTSTAMP:20260420T231827
CREATED:20260326T170218Z
LAST-MODIFIED:20260326T170218Z
UID:10008674-1774684800-1775509200@www.newtonbeacon.org
SUMMARY:Win at Oak Hill Middle School's FIRST Online Auction!
DESCRIPTION:Ready? Set? BID! Support a local Newton school by participating in Oak Hill Middle School’s FIRST Zervas PTO Online Auction: www.32auctions.com/oakoill \nHelp make this one of the PTO’s largest fundraisers of the year. Any bid helps! \nNearly 130 items to choose from\, including sporting events\, fitness clubs\, spas\, restaurants\, summer camps\, shops\, and activities for the entire family. \nPlease visit and bid: www.32auctions.com/oakhill\nThank you\, and good luck with your bids! \nThe Oak Hill Middle School Parent Teacher Association (PTO) is a 501(c)3 non-profit organization with a mission to enhance our children’s educational experience through community building\, family support\, volunteer work\, fundraising\, and parental involvement. Our goal is to build a strong community that fosters the support and participation of all of our enrolled families.
URL:https://www.newtonbeacon.org/event/win-at-oak-hill-middle-schools-first-online-auction/
CATEGORIES:Education
END:VEVENT
END:VCALENDAR