BEGIN:VCALENDAR
VERSION:2.0
PRODID:-//Newton Beacon - ECPv6.15.20//NONSGML v1.0//EN
CALSCALE:GREGORIAN
METHOD:PUBLISH
X-WR-CALNAME:Newton Beacon
X-ORIGINAL-URL:https://www.newtonbeacon.org
X-WR-CALDESC:Events for Newton Beacon
REFRESH-INTERVAL;VALUE=DURATION:PT1H
X-Robots-Tag:noindex
X-PUBLISHED-TTL:PT1H
BEGIN:VTIMEZONE
TZID:America/New_York
BEGIN:DAYLIGHT
TZOFFSETFROM:-0500
TZOFFSETTO:-0400
TZNAME:EDT
DTSTART:20240310T070000
END:DAYLIGHT
BEGIN:STANDARD
TZOFFSETFROM:-0400
TZOFFSETTO:-0500
TZNAME:EST
DTSTART:20241103T060000
END:STANDARD
BEGIN:DAYLIGHT
TZOFFSETFROM:-0500
TZOFFSETTO:-0400
TZNAME:EDT
DTSTART:20250309T070000
END:DAYLIGHT
BEGIN:STANDARD
TZOFFSETFROM:-0400
TZOFFSETTO:-0500
TZNAME:EST
DTSTART:20251102T060000
END:STANDARD
BEGIN:DAYLIGHT
TZOFFSETFROM:-0500
TZOFFSETTO:-0400
TZNAME:EDT
DTSTART:20260308T070000
END:DAYLIGHT
BEGIN:STANDARD
TZOFFSETFROM:-0400
TZOFFSETTO:-0500
TZNAME:EST
DTSTART:20261101T060000
END:STANDARD
BEGIN:DAYLIGHT
TZOFFSETFROM:-0500
TZOFFSETTO:-0400
TZNAME:EDT
DTSTART:20270314T070000
END:DAYLIGHT
BEGIN:STANDARD
TZOFFSETFROM:-0400
TZOFFSETTO:-0500
TZNAME:EST
DTSTART:20271107T060000
END:STANDARD
END:VTIMEZONE
BEGIN:VEVENT
DTSTART;TZID=America/New_York:20250918T160000
DTEND;TZID=America/New_York:20260423T160000
DTSTAMP:20260419T080552
CREATED:20250910T230025Z
LAST-MODIFIED:20250910T230025Z
UID:10007889-1758211200-1776960000@www.newtonbeacon.org
SUMMARY:Subscription Series: "The American Dream and the Movies" With Professor Julie Levinson
DESCRIPTION:Throughout the past century\, Hollywood movies have been a major force in embedding the notion of the American dream in our individual aspirations\, our public discourse\, and our collective consciousness. They have offered varied perspectives on this very essence of our national self-image—sometimes extolling and sometimes challenging the premises and promises of the dream. This film series will showcase a range of movies that explore both the hopes and betrayals of the American dream. Screenings will take place once a month on Thursdays at 4:00PM. Each film will be preceded by a brief introduction and will be followed by audience discussion. \nSchedule: 8 films\, presented once monthly on Thursdays at 4:00 PM. Each film will be preceded by a brief introduction and followed by audience discussion. \nSubscription Pricing:\nFull series pass (all 8 films\, savings of 20%) – $100\nHalf series pass (your choice of 4 films) – $60 \nSingle ticket (available for one session only; purchase at Box Office) – $15 \nList of films: \nThursday\, September 18: The Dream Defined\nThe Pursuit of Happyness (Director: Gabriele Muccino) \nThursday\, October 23: The Dream Deferred\nThe Crowd (Director: King Vidor) \nThursday\, November 20: The Dream Denied\nThe Florida Project (Director: Sean Baker) \nThursday\, December 18: The Dream as Fever Dream\nA Face in the Crowd (Director: Elia Kazan) \nThursday\, January 22: The Dream House and the American Dream\n99 Homes (Director: Ramin Bahrani) \nThursday\, February 26: Satirizing the Dream\nThe Hudsucker Proxy (Directors: Joel and Ethan Cohen) \nThursday\, March 26: The Immigrant Dream\nMinari (Director: Lee Isaac Chung) \nThursday\, April 23: The Dream on the Road\nLost in America (Director: Albert Brooks)
URL:https://www.newtonbeacon.org/event/subscription-series-the-american-dream-and-the-movies-with-professor-julie-levinson/
LOCATION:West Newton Cinema\, 1296 Washington Street\, West Newton\, MA\, 02465\, United States
CATEGORIES:Community
ORGANIZER;CN="West Newton Cinema Foundation":MAILTO:kbrown@mit.edu
END:VEVENT
BEGIN:VEVENT
DTSTART;TZID=America/New_York:20260401T073000
DTEND;TZID=America/New_York:20260509T123000
DTSTAMP:20260419T080552
CREATED:20260413T202201Z
LAST-MODIFIED:20260413T202201Z
UID:10008722-1775028600-1778329800@www.newtonbeacon.org
SUMMARY:Newton Neighbors Diaper Drive
DESCRIPTION:Last year\, with the help of generous neighbors like you and the support of our wonderful partner organizations\, Newton Neighbors was able to distribute an astounding 53\,000 diapers to community members in need! This year\, we are hoping to do even more. \nHelp support families in need of diapers by donating to the Newton Neighbors Diaper Drive through April 30th. All sizes including pull-ups accepted.\n● Drop Diapers off at FamilyACCESS of Newton (492 Waltham St\, West Newton). Drop off inside the front doors\, 8:00 am to 6:00 pm\n● Purchase diapers from the Newton Neighbors Amazon Wishlist: https://www.amazon.com/hz/wishlist/ls/35RDUZM4QR7DV?ref_=wl_share\n● Donate money to Newton Neighbors and we will purchase diapers at Costco. Donate via this link: https://www.newtonneighbors.org/donate \nNeed Diapers? Pick up free diapers at FamilyACCESS of Newton or American Legion Nonantum Post 440 on Saturday\, May 9th between 7:30 am and 12:30 PM. No ID or registration required.
URL:https://www.newtonbeacon.org/event/newton-neighbors-diaper-drive/
LOCATION:MA
END:VEVENT
BEGIN:VEVENT
DTSTART;TZID=America/New_York:20260419T120000
DTEND;TZID=America/New_York:20260419T133000
DTSTAMP:20260419T080552
CREATED:20260413T202127Z
LAST-MODIFIED:20260413T202127Z
UID:10008723-1776600000-1776605400@www.newtonbeacon.org
SUMMARY:All Welcome at Social Justice Speaker Lunch
DESCRIPTION:FUUSN’s Social Justice Speakers Task Force invites you to a discussion with Nathan Simms\, Director of Programs and Tammy Hopkins\, Director of Development at Communities for Restorative Justice\, on Sunday\, April 19 at 12:00 p.m. in the Alliance Room. A light lunch will be served. \nCommunities for Restorative Justice (C4RJ) is the leader in court-alternative restorative justice practices in Massachusetts. Celebrating their 25th Anniversary in 2025\, C4RJ has created and refined a model that subscribes to best practices in the field. They partner with law enforcement\, district attorneys\, and community members to offer restorative justice (RJ)\, an evidence-based response to crime that promotes healing\, accountability\, and equity. Unlike the traditional criminal justice system\, which centers around punishment\, RJ brings together those harmed\, those responsible\, and the community to address harm and divert criminal cases out of the courtroom and into a community-based\, volunteer-led collective repair process. \nC4RJ is the only restorative justice organization conducting this work on a statewide scale in Massachusetts. They partner with 20 police departments across the Commonwealth\, as well as the Middlesex\, Northwestern\, and Suffolk County District Attorney’s Offices.\nIn their talk\, Nathan & Tammy will highlight the facilitated circle process that brings together all parties impacted by a crime to speak honestly about what happened\, address needs\, and agree on meaningful steps to work towards repair. Restorative justice is voluntary and accountability driven. Responsible parties actively work to repair harm. Victims are empowered\, and their needs are centered. C4RJ’s process increases community safety and reduces recidivism.\nThe Social Justice Speakers Task Force is part of FUUSN’s Social Justice Council\, which coordinates our congregation’s efforts to put faith into action through social justice work in our communities and beyond. For more information about FUUSN’s Social Justice Council and to R.S.V.P. to this event\, use this link. First Unitarian Universalist Society in Newton (FUUSN) is a congregation with liberal and progressive theology. Founded in 1848\, FUUSN offers deep connection\, spiritual growth\, and opportunities to build a just world.
URL:https://www.newtonbeacon.org/event/all-welcome-at-social-justice-speaker-lunch/
LOCATION:First Unitarian Universalist Society in Newton\, 1326 Washington Street\, West Newton\, MA\, 02465\, United States
CATEGORIES:Community
END:VEVENT
END:VCALENDAR