BEGIN:VCALENDAR
VERSION:2.0
PRODID:-//Newton Beacon - ECPv6.15.20//NONSGML v1.0//EN
CALSCALE:GREGORIAN
METHOD:PUBLISH
X-ORIGINAL-URL:https://www.newtonbeacon.org
X-WR-CALDESC:Events for Newton Beacon
REFRESH-INTERVAL;VALUE=DURATION:PT1H
X-Robots-Tag:noindex
X-PUBLISHED-TTL:PT1H
BEGIN:VTIMEZONE
TZID:America/New_York
BEGIN:DAYLIGHT
TZOFFSETFROM:-0500
TZOFFSETTO:-0400
TZNAME:EDT
DTSTART:20240310T070000
END:DAYLIGHT
BEGIN:STANDARD
TZOFFSETFROM:-0400
TZOFFSETTO:-0500
TZNAME:EST
DTSTART:20241103T060000
END:STANDARD
BEGIN:DAYLIGHT
TZOFFSETFROM:-0500
TZOFFSETTO:-0400
TZNAME:EDT
DTSTART:20250309T070000
END:DAYLIGHT
BEGIN:STANDARD
TZOFFSETFROM:-0400
TZOFFSETTO:-0500
TZNAME:EST
DTSTART:20251102T060000
END:STANDARD
BEGIN:DAYLIGHT
TZOFFSETFROM:-0500
TZOFFSETTO:-0400
TZNAME:EDT
DTSTART:20260308T070000
END:DAYLIGHT
BEGIN:STANDARD
TZOFFSETFROM:-0400
TZOFFSETTO:-0500
TZNAME:EST
DTSTART:20261101T060000
END:STANDARD
BEGIN:DAYLIGHT
TZOFFSETFROM:-0500
TZOFFSETTO:-0400
TZNAME:EDT
DTSTART:20270314T070000
END:DAYLIGHT
BEGIN:STANDARD
TZOFFSETFROM:-0400
TZOFFSETTO:-0500
TZNAME:EST
DTSTART:20271107T060000
END:STANDARD
END:VTIMEZONE
BEGIN:VEVENT
DTSTART;TZID=America/New_York:20250918T160000
DTEND;TZID=America/New_York:20260423T160000
DTSTAMP:20260422T061028
CREATED:20250910T230025Z
LAST-MODIFIED:20250910T230025Z
UID:10007889-1758211200-1776960000@www.newtonbeacon.org
SUMMARY:Subscription Series: "The American Dream and the Movies" With Professor Julie Levinson
DESCRIPTION:Throughout the past century\, Hollywood movies have been a major force in embedding the notion of the American dream in our individual aspirations\, our public discourse\, and our collective consciousness. They have offered varied perspectives on this very essence of our national self-image—sometimes extolling and sometimes challenging the premises and promises of the dream. This film series will showcase a range of movies that explore both the hopes and betrayals of the American dream. Screenings will take place once a month on Thursdays at 4:00PM. Each film will be preceded by a brief introduction and will be followed by audience discussion. \nSchedule: 8 films\, presented once monthly on Thursdays at 4:00 PM. Each film will be preceded by a brief introduction and followed by audience discussion. \nSubscription Pricing:\nFull series pass (all 8 films\, savings of 20%) – $100\nHalf series pass (your choice of 4 films) – $60 \nSingle ticket (available for one session only; purchase at Box Office) – $15 \nList of films: \nThursday\, September 18: The Dream Defined\nThe Pursuit of Happyness (Director: Gabriele Muccino) \nThursday\, October 23: The Dream Deferred\nThe Crowd (Director: King Vidor) \nThursday\, November 20: The Dream Denied\nThe Florida Project (Director: Sean Baker) \nThursday\, December 18: The Dream as Fever Dream\nA Face in the Crowd (Director: Elia Kazan) \nThursday\, January 22: The Dream House and the American Dream\n99 Homes (Director: Ramin Bahrani) \nThursday\, February 26: Satirizing the Dream\nThe Hudsucker Proxy (Directors: Joel and Ethan Cohen) \nThursday\, March 26: The Immigrant Dream\nMinari (Director: Lee Isaac Chung) \nThursday\, April 23: The Dream on the Road\nLost in America (Director: Albert Brooks)
URL:https://www.newtonbeacon.org/event/subscription-series-the-american-dream-and-the-movies-with-professor-julie-levinson/
LOCATION:West Newton Cinema\, 1296 Washington Street\, West Newton\, MA\, 02465\, United States
CATEGORIES:Community
ORGANIZER;CN="West Newton Cinema Foundation":MAILTO:kbrown@mit.edu
END:VEVENT
BEGIN:VEVENT
DTSTART;TZID=America/New_York:20260304T120000
DTEND;TZID=America/New_York:20260304T130000
DTSTAMP:20260422T061028
CREATED:20260211T160741Z
LAST-MODIFIED:20260211T160741Z
UID:10008614-1772625600-1772629200@www.newtonbeacon.org
SUMMARY:All About Breast Cancer Prevention: What Providers and Patients Want to Know
DESCRIPTION:What do environmental chemicals mean for breast cancer risk—and what can patients do about it? This webinar explores how emerging science is shaping prevention strategies. Learn how clinicians are incorporating this information into practice and how patients can engage their doctors to better manage their risk and advocate for their health. \nWednesday\, March 4\, 2026 \n12:00-1:00 PM ET (ZOOM) \nFeaturing: \nMarybeth Hans\, MS\, PA-C\, Clinical Director\, Comprehensive Breast Care Center\, Beth Israel Deaconess Medical Center\nDr. Mary Beth Terry\, Executive Director\, Silent Spring Institute\nModerated by: \nDr. Beth Whelan\, Silent Spring board member and retired senior research epidemiologist at the U.S. Centers for Disease Control and Prevention\nEvent Details:\nFree event \nRegister Today: https://secure.lglforms.com/form_engine/s/iQGR4a4nDnj9bQUSYF_Mew?t=1769611789 \nThe Science Café speaker series features conversations with experts on a variety of topics related to breast cancer and environmental health\, and is made possible thanks to generous contributions to Silent Spring Institute.
URL:https://www.newtonbeacon.org/event/all-about-breast-cancer-prevention-what-providers-and-patients-want-to-know/
LOCATION:Virtual\, RSVP for meeting LINK\, Waltham\, MA\, 02452
END:VEVENT
BEGIN:VEVENT
DTSTART;TZID=America/New_York:20260304T190000
DTEND;TZID=America/New_York:20260304T200000
DTSTAMP:20260422T061028
CREATED:20251001T145621Z
LAST-MODIFIED:20251001T145621Z
UID:10007944-1772650800-1772654400@www.newtonbeacon.org
SUMMARY:Ukulele Workshop
DESCRIPTION:Want to try an instrument that is fun and relatively easy to play? Learn the fundamentals of ukulele playing with Julie Stepanek Murray! This three part series will cover the basics (tuning\, fretting\, strumming\, and reading chord diagrams) as well as providing the opportunity to ask questions and to play fun and easy songs. No experience necessary. This series is geared towards adults. \nWe recommend attending all three sessions of this workshop since each workshop will build on the previous one. But if you already know a few basics or feel confident that you can catch up\, you’re welcome to join the later sessions. \nYou can either bring a ukulele to the workshop or register to use one of Julie’s. If you have your own ukulele (or borrow one of the Library’s)\, no need to register in advance – just show up! \nIf you want to use one of Julie’s ukuleles\, please register on the Library’s website. When you sign up\, you are registering for all three sessions. Please note that Julie’s instruments are available during the workshops but need to be returned to Julie at the end of each session and cannot be taken home.
URL:https://www.newtonbeacon.org/event/ukulele-workshop/2026-03-04/
LOCATION:Newton Free Library\, 330 Homer Street\, Newton Centre MA\, MA\, 02459\, United States
CATEGORIES:Music
END:VEVENT
END:VCALENDAR